BEGIN:VCALENDAR
VERSION:2.0
PRODID:-//wp-events-plugin.com//6.6.3//EN
TZID:Europe/Berlin
X-WR-TIMEZONE:Europe/Berlin
BEGIN:VEVENT
UID:1667@mpoint.biz
DTSTART;TZID=Europe/Berlin:20250902T180000
DTEND;TZID=Europe/Berlin:20250902T210000
DTSTAMP:20250906T131831Z
URL:https://mpoint.biz/events/m-point-optmistic-afterwork-6/
SUMMARY:M-POINT OPTMISTIC AFTERWORK
DESCRIPTION:Einmal im Monat bieten wir zusammen mit dem Club der Optimisten
  ein lockeres AFTERWORK COME TOGETHER an.\nDiesen Monat findet der Optimis
 tenschnack wieder in der entspannten Atmosphäre des SUP Legion direkt an 
 der Alster statt.\nInteressante Leute\, lockere Gespräche\, Good Vibratio
 ns erwarten Euch bei diesem besonderen Netzwerktreffen.\nImmer mehr M-POIN
 T-Mitglieder schließen sich an jedem ersten Dienstag im Monat zum OPTIMIS
 TENSCHNACK an.\nSei auch Du dabei\, denn Netzwerken lebt bekanntlich vom M
 itmachen!\nDie Veranstaltung ist kostenfrei\, jeder zahlt seinen Verzehr s
 elbst!\n&nbsp\;\n\nGrafik: @angelika-gerleit
ATTACH;FMTTYPE=image/jpeg:https://mpoint.biz/wp-content/uploads/2025/01/Op
 timistic_Afterwork_Versalien_EVENTARIUM-1.webp
CATEGORIES:M-POINT
LOCATION:SUP-Legion\, Körner Straße 1\, Hamburg\, 22301\, Deutschland
GEO:53.579345;10.012832
X-APPLE-STRUCTURED-LOCATION;VALUE=URI;X-ADDRESS=Körner Straße 1\, Hamburg
 \, 22301\, Deutschland;X-APPLE-RADIUS=100;X-TITLE=SUP-Legion:geo:53.579345
 ,10.012832
END:VEVENT
BEGIN:VTIMEZONE
TZID:Europe/Berlin
X-LIC-LOCATION:Europe/Berlin
BEGIN:DAYLIGHT
DTSTART:20250330T030000
TZOFFSETFROM:+0100
TZOFFSETTO:+0200
TZNAME:CEST
END:DAYLIGHT
END:VTIMEZONE
END:VCALENDAR