BEGIN:VCALENDAR
VERSION:2.0
PRODID:-//wp-events-plugin.com//6.6.3//EN
TZID:Europe/Berlin
X-WR-TIMEZONE:Europe/Berlin
BEGIN:VEVENT
UID:1681@mpoint.biz
DTSTART;TZID=Europe/Berlin:20251007T180000
DTEND;TZID=Europe/Berlin:20251007T210000
DTSTAMP:20251017T174317Z
URL:https://mpoint.biz/events/m-point-optmistic-afterwork-24/
SUMMARY:M-POINT OPTMISTIC AFTERWORK
DESCRIPTION:Einmal im Monat bieten wir zusammen mit dem Club der Optimisten
  ein lockeres AFTERWORK COME TOGETHER an.\nDiesen Monat findet der Optimis
 tenschnack wieder statt – wo genau\, erfahrt Ihr kurzfristig von M-POINT
 .\nInteressante Leute\, lockere Gespräche\, Good Vibrations erwarten Euch
  bei diesem besonderen Netzwerktreffen.\nImmer mehr M-POINT-Mitglieder sch
 ließen sich an jedem ersten Dienstag im Monat zum OPTIMISTENSCHNACK an.\n
 Sei auch Du dabei\, denn Netzwerken lebt bekanntlich vom Mitmachen!\nDie V
 eranstaltung ist kostenfrei\, jeder zahlt seinen Verzehr selbst!\n&nbsp\;\
 n\nGrafik: @angelika-gerleit
ATTACH;FMTTYPE=image/jpeg:https://mpoint.biz/wp-content/uploads/2025/01/Op
 timistic_Afterwork_Versalien_EVENTARIUM-1.webp
CATEGORIES:M-POINT
END:VEVENT
BEGIN:VTIMEZONE
TZID:Europe/Berlin
X-LIC-LOCATION:Europe/Berlin
BEGIN:DAYLIGHT
DTSTART:20250330T030000
TZOFFSETFROM:+0100
TZOFFSETTO:+0200
TZNAME:CEST
END:DAYLIGHT
END:VTIMEZONE
END:VCALENDAR