BEGIN:VCALENDAR
VERSION:2.0
PRODID:-//wp-events-plugin.com//6.6.3//EN
TZID:Europe/Berlin
X-WR-TIMEZONE:Europe/Berlin
BEGIN:VEVENT
UID:724@mpoint.biz
DTSTART;TZID=Europe/Berlin:20230306T160000
DTEND;TZID=Europe/Berlin:20230306T170000
DTSTAMP:20240701T124708Z
URL:https://mpoint.biz/events/kostenfreier-steuerworkshop-fuer-gruenderinn
 en/
SUMMARY:Kostenfreier Steuerworkshop für Gründer*innen
DESCRIPTION:Die Handelskammer Hamburg gibt Gründerinnen und Gründern im R
 ahmen von kleinen\, digitalen Workshops die Möglichkeit zu Erstauskünfte
 n zum Steuerrecht.\n\nDieser wird von einem/ einer Steuerberater/-in in kl
 einen Gruppen - mit bis zu 8 Teilnehmern - durchgeführt und ist kostenfre
 i.\n\nDer Workshop wird mit Microsoft Teams durchgeführt. Eine Kalenderan
 frage mit entsprechendem Anmeldelink zum Webinar erhältst Du einige Tage 
 vor der Veranstaltung.\n\nDer Titel der Veranstaltung lautet: "Workshop zu
 m Thema Steuern für Gründerinnen und Gründer!".\n\nFür die Teilnahme a
 n diesem Event ist eine Anmeldung auf dem M-POINT Unternehmerportal NICHT 
 ausreichend.\n\nVielmehr ist es unbedingt erforderlich\, die Anmeldung bei
 m Veranstalter direkt vorzunehmen.\n\nDen Anmeldeprozess findest Du hier !
ATTACH;FMTTYPE=image/jpeg:https://mpoint.biz/wp-content/uploads/2024/07/M_
 POINT_Kooperation-Ausschnitt-auf-600-px_1000-×-800-px_-3.webp
END:VEVENT
BEGIN:VTIMEZONE
TZID:Europe/Berlin
X-LIC-LOCATION:Europe/Berlin
BEGIN:STANDARD
DTSTART:20221030T020000
TZOFFSETFROM:+0200
TZOFFSETTO:+0100
TZNAME:CET
END:STANDARD
END:VTIMEZONE
END:VCALENDAR