BEGIN:VCALENDAR
VERSION:2.0
PRODID:-//wp-events-plugin.com//6.6.3//EN
TZID:Europe/Berlin
X-WR-TIMEZONE:Europe/Berlin
BEGIN:VEVENT
UID:611@mpoint.biz
DTSTART;TZID=Europe/Berlin:20211217T083000
DTEND;TZID=Europe/Berlin:20211217T091500
DTSTAMP:20240701T124348Z
URL:https://mpoint.biz/events/kostenfreie-mentoring-runde-mit-hohem-teilne
 hmernutzen-2/
SUMMARY:Kostenfreie Mentoring-Runde mit hohem Teilnehmernutzen!
DESCRIPTION:+++EARLY MORNING TALK+++\n\nUNTERSTÜTZUNG SUCHEN –&gt\; UNT
 ERSTÜTZUNG FINDEN!\n\nKostenfreie Mentoring-Runde mit hohem Teilnehmernut
 zen!\n\n \n\nLiebe Mitglieder\,\n\nals Selbstständige und/oder Unternehm
 er*innen treffen wir tagtäglich eine Vielzahl von Entscheidungen\, deren 
 Tragweite wir häufig erst in der Zukunft erleben.\n\nIn unserer offenen M
 entoring-Runde könnt Ihr von den Erfahrungen der Gruppe profitieren und s
 o Euer Business fit für die Zukunft machen.\n\nKommt in unsere kostenfrei
 e MENTORING-Runde und profitiert vom aktiven\, persönlichen und wertschä
 tzenden Austausch!\n\nJeden Freitag von 08:30 Uhr – 09:15 Uhr bekommt Ih
 r wertvolle Impulse im Gespräch mit anderen Unternehmern!\n\nModeriert wi
 rd der Talk von unserem Netzwerkgründer Thomas Götzinger!\n\nLoggt Euch
  bitte bereits ab 8:25 Uhr ein\, damit wir pünktlich um 8:30 Uhr starten
  können.\n\nTeilt den Link gerne in Eurem unternehmerischen Freundes- und
  Bekanntenkreis!\n\n&nbsp\;\n\nZoom-Meeting beitreten\nhttps://us02web.zoo
 m.us/j/83182994902?pwd=c1M3ZGFUV25aOXpUait3Z0NNaWVpdz09\n\nMeeting-ID: 831
  8299 4902\nKenncode: 830287\n\n&nbsp\;\n\nGäste sind herzlich willkommen
 !\n\n&nbsp\;\n\nTeilnahme Berechtigung in der Rangfolge des Mitgliedsstatu
 s\, PROFESSIONAL vor EXPLORER vor OBSERVER.\n\nGrafik: @angelika-gerleit
ATTACH;FMTTYPE=image/jpeg:https://mpoint.biz/wp-content/uploads/2024/07/Ko
 stenfreie-Mentoring-Runde.png
END:VEVENT
BEGIN:VTIMEZONE
TZID:Europe/Berlin
X-LIC-LOCATION:Europe/Berlin
BEGIN:STANDARD
DTSTART:20211031T020000
TZOFFSETFROM:+0200
TZOFFSETTO:+0100
TZNAME:CET
END:STANDARD
END:VTIMEZONE
END:VCALENDAR