BEGIN:VCALENDAR
VERSION:2.0
PRODID:-//wp-events-plugin.com//6.6.3//EN
TZID:Europe/Berlin
X-WR-TIMEZONE:Europe/Berlin
BEGIN:VEVENT
UID:845@mpoint.biz
DTSTART;TZID=Europe/Berlin:20231027T083000
DTEND;TZID=Europe/Berlin:20231027T091500
DTSTAMP:20240701T124845Z
URL:https://mpoint.biz/events/kostenfreie-mentoring-runde-fuer-professiona
 ls-94/
SUMMARY:Kostenfreie Mentoring-Runde für Professionals!
DESCRIPTION:EARLY MORNING TALK\nUNTERSTÜTZUNG GESUCHT &amp\; GEFUNDEN\nKos
 tenfreie Mentoring-Runde für Professionals!\n++ Diesmal live moderiert vo
 n Mallorca \;-) ++\nIn unserer Selbständigkeit und unserem unternehmerisc
 hen Wirken stehen wir täglich vor Herausforderungen und Entscheidungen.\n
 \nMeistens finden wir selbst die Lösungen aber manchmal ist es auch gut\,
  sich mit anderen vertrauensvoll auszutauschen und inspirieren zu lassen.\
 n\nGenau das…und noch viel mehr bietet der regelmäßige digitale M-POIN
 T EARLY MORNING TALK kurz EMT!\n\nImmer freitags\, immer um 08:30 Uhr und 
 immer 45 Minuten...nicht immer aber meistens moderiert von unserem Netzwer
 kgründer Thomas Götzinger.\n\nKommt doch einfach mal digital dazu und pr
 ofitiert von den Erfahrungen der Gruppe für Euer Business.\n\nLoggt Euch
  bitte bereits ab 8:25 Uhr ein\, damit wir pünktlich um 8:30 Uhr starten
  können.\n\nTeilt den Link gerne in Eurem unternehmerischen Freundes- und
  Bekanntenkreis!\n\n&nbsp\;\n\nZoom-Meeting beitreten\nhttps://us02web.zoo
 m.us/j/83182994902?pwd=c1M3ZGFUV25aOXpUait3Z0NNaWVpdz09\n\nMeeting-ID: 831
  8299 4902\nKenncode: 830287\n\n&nbsp\;\n\nTEILNEHMER BERECHTIGUNG:\n\nAm 
 EARLY MORNING TALK können alle Mitglieder im Status PROFESSIONAL und MAST
 ER teilnehmen. Die Anzahl der Teilnehmer ist auf 16 begrenzt.\n\nGÄSTE:\n
 \nMitglieder im Status OBSERVER und EXPLORER können bis zu dreimal am EA
 RLY MORNING TALK teilnehmen.\n\n&nbsp\;\n\nGrafik: @angelika-gerleit
ATTACH;FMTTYPE=image/jpeg:https://mpoint.biz/wp-content/uploads/2024/07/Ea
 rly-Morning-Talk_neu-2-6.webp
END:VEVENT
BEGIN:VTIMEZONE
TZID:Europe/Berlin
X-LIC-LOCATION:Europe/Berlin
BEGIN:DAYLIGHT
DTSTART:20230326T030000
TZOFFSETFROM:+0100
TZOFFSETTO:+0200
TZNAME:CEST
END:DAYLIGHT
END:VTIMEZONE
END:VCALENDAR