BEGIN:VCALENDAR
VERSION:2.0
PRODID:-//wp-events-plugin.com//6.6.3//EN
TZID:Europe/Berlin
X-WR-TIMEZONE:Europe/Berlin
BEGIN:VEVENT
UID:1255@mpoint.biz
DTSTART;TZID=Europe/Berlin:20230419T080000
DTEND;TZID=Europe/Berlin:20230419T090000
DTSTAMP:20250108T152425Z
URL:https://mpoint.biz/events/koerpersprache-richtig-einsetzen-2/
SUMMARY:Körpersprache richtig einsetzen
DESCRIPTION:Die Friedrich-Naumann-Stiftung für die Freiheit veranstaltet d
 ieses informative Webinar. Hierbei erfährst Du wie man mit seiner Körper
 sprache Stärke und Souveränität ausstrahlt.\n\n„Menschenkenntnis\, da
 zu gehören die nonverbale Kommunikation (Körpersprache &amp\; Mimik)\, s
 chnelles Erkennen von Verhaltenstendenzen (Profiling) und der Einsatz von 
 konstruktiven Kommunikationsmethoden bilden den Schlüssel zum Erfolg.“ 
 so die Gastsprecherin Isabella Herzig (Coach &amp\; Mimikanalystin)\n\n&nb
 sp\;\n\nDer Begriff Status lässt sich aus unserem Wortschatz kaum wegdenk
 en\, allein das Statussymbol ist in zahlreichen Situationen des Privat- od
 er Berufslebens elementar und aussagekräftig: Es stellt etwas dar\, es st
 ellt uns dar. Wir alle spielen eine Rolle. Im Beruf\, in der Politik\, in 
 unseren unterschiedlichen Lebensbereichen. Wir möchten überzeugen\, Komp
 etenz ausstrahlen\, Menschen führen. Der Status bestimmt mit\, wie gut un
 s das gelingt\, wie wir gesehen werden\, und wie wir uns im Verhältnis zu
  anderen fühlen. Und oftmals wird er künstlich hergestellt.\n\nOb uns so
 uveräne Ausstrahlung gelingt\, liegt häufig nicht an den Argumenten oder
  Ideen\, sondern an den subtilen Hinweisen\, die Signale wie unsere Körpe
 rsprache senden. Unsere Körpersprache ist ein wesentliches Kommunikations
 mittel\, das einen Status herzustellen vermag.\n\nSei dabei und tauche ein
  in die Welt der Statusspiele und erfahre wie Du Deine Mitmenschen in Zuku
 nft noch besser von Dir überzeugen kannst.\n\nDer Titel der Veranstaltung
  lautet: “Statusspiele – Wie wir mit unsere Körpersprache Stärke und
  Souveränität ausstrahlen “.\n\nFür die Teilnahme an diesem Event ist
  eine Anmeldung auf dem M-POINT Unternehmerportal NICHT ausreichend.\n\nVi
 elmehr ist es unbedingt erforderlich\, die Anmeldung beim Veranstalter dir
 ekt vorzunehmen.\n\nDen Anmeldeprozess findest Du hier!
ATTACH;FMTTYPE=image/jpeg:https://mpoint.biz/wp-content/uploads/2024/07/KS
 koop.webp
CATEGORIES:Mitglied
END:VEVENT
BEGIN:VTIMEZONE
TZID:Europe/Berlin
X-LIC-LOCATION:Europe/Berlin
BEGIN:DAYLIGHT
DTSTART:20230326T030000
TZOFFSETFROM:+0100
TZOFFSETTO:+0200
TZNAME:CEST
END:DAYLIGHT
END:VTIMEZONE
END:VCALENDAR