BEGIN:VCALENDAR
VERSION:2.0
PRODID:-//wp-events-plugin.com//6.6.3//EN
TZID:Europe/Berlin
X-WR-TIMEZONE:Europe/Berlin
BEGIN:VEVENT
UID:1403@mpoint.biz
DTSTART;TZID=Europe/Berlin:20231204T193000
DTEND;TZID=Europe/Berlin:20231204T210000
DTSTAMP:20250108T152447Z
URL:https://mpoint.biz/events/knut-terjung-trifft-prof-dr-michael-otto-4/
SUMMARY:Knut Terjung trifft Prof. Dr. Michael Otto
DESCRIPTION:Der ehemaliger Pressesprecher der SPD-Bundestagsfraktion und er
 fahrener Auslandskorrespondent des ZDF\, Kunt Terjung\, lädt regelmäßig
  faszinierende Persönlichkeiten aus Gesellschaft\, Politik und Kultur ein
 .\n\nErlebe das einzigartige Zusammentreffen von Knut Terjung und Prof. Dr
 . Michael Otto\n\nAm 04.12.2023 um 19:30 Uhr öffnen sich die Tore der St.
  Nikolai am Klosterstern für dieses besondere Event mit dem ehemalige Auf
 sichtsratsvorsitzenden der Otto Group.\n\nTauche ein in das inspirierende 
 Gespräch und erhalte spannende Einblicke\, wenn diese beiden prominenten 
 Unternehmer aufeinandertreffen.\n\nDiese einmalige Veranstaltung bietet ni
 cht nur faszinierende Begegnungen\, sondern auch kostenfreien Eintritt und
  freie Platzwahl.\n\nKomm rechtzeitig\, um Dir einen der begehrten Plätze
  zu sichern\, um diesen Abend voller interessanter Gespräche in besondere
 r Atmosphäre zu genießen.\n\nSei mit uns zusammen dabei und lass Dich vo
 n der Energie der Gastgeber und Location mitreißen!\n\nWeitere Informatio
 nen erhältst Du hier!
ATTACH;FMTTYPE=image/jpeg:https://mpoint.biz/wp-content/uploads/2024/07/Te
 rjung-trifft-Otto.webp
CATEGORIES:Kooperationspartner
LOCATION:Hamburger Volksbank\, Hammerbrookstraße 63 - 65\, Hamburg\, 20097
 \, 
GEO:53.547718;10.02344560000006
X-APPLE-STRUCTURED-LOCATION;VALUE=URI;X-ADDRESS=Hammerbrookstraße 63 - 65\
 , Hamburg\, 20097\, ;X-APPLE-RADIUS=100;X-TITLE=Hamburger Volksbank:geo:53
 .547718,10.02344560000006
END:VEVENT
BEGIN:VTIMEZONE
TZID:Europe/Berlin
X-LIC-LOCATION:Europe/Berlin
BEGIN:STANDARD
DTSTART:20231029T020000
TZOFFSETFROM:+0200
TZOFFSETTO:+0100
TZNAME:CET
END:STANDARD
END:VTIMEZONE
END:VCALENDAR