BEGIN:VCALENDAR
VERSION:2.0
PRODID:-//wp-events-plugin.com//6.6.3//EN
TZID:Europe/Berlin
X-WR-TIMEZONE:Europe/Berlin
BEGIN:VEVENT
UID:1397@mpoint.biz
DTSTART;TZID=Europe/Berlin:20231114T170000
DTEND;TZID=Europe/Berlin:20231114T180000
DTSTAMP:20250108T152445Z
URL:https://mpoint.biz/events/kmu-innovationsstrategien-zum-durchstarten-t
 eil-1/
SUMMARY:KMU: Innovationsstrategien zum Durchstarten -Kooperationen & Parner
 schaften
DESCRIPTION:Entdecke mit unserem Kooperationspartner der Handelskammer Hamb
 urg die Welt der Innovationen für kleine- und mittelständische Unternehm
 en (KMU) mit der neuen Webinarreihe der "Praxisnahe Innovationsstrategien 
 für KMU". Spüre den Innovationsdruck und erfahre\, wie Du in deinem Betr
 ieb ein innovatives Klima schaffen und das volle technologische Potenzial 
 nutzen kannst.\n\nWarum ist eine gute Innovationsstrategie so wichtig? Sie
  eröffnet die Möglichkeit zur Erweiterung des Kerngeschäfts\, ermöglic
 ht die Entwicklung neuer innovativer Services und Produkte und erschließt
  neue Märkte entlang der Wertschöpfungskette. Doch welche Optionen stehe
 n KMU auf dem Weg zur Innovation zur Verfügung?\n\nTauche ein in die Welt
  der Möglichkeiten und erlebe die Webinarreihe live! In vier spannenden O
 nline-Veranstaltungen zeigen Dir Praxisexperten und Forscher\, wie Du prak
 tische Anwendungsfälle verstehen und verschiedene Lösungswege nutzen kan
 nst.\n\nSei dabei am 14.11.2023 von 17:00-18:00 Uhr beim Webinar "Innovati
 on durch Partnerschaften und Kooperationen mit Forschungseinrichtungen". E
 rfahre\, wie Du gezielt Innovationen in deinem Unternehmen fördern kannst
 . Die Innovations Kontakt Stelle (IKS) Hamburg teilt ihre Erfahrungen und 
 Best-Practice-Beispiele zur Kooperation von KMU und Forschungseinrichtunge
 n. Lerne\, wie die IKS als Anlaufstelle für Kooperationen in Hamburg fung
 iert und entdecke verschiedene Formen der Zusammenarbeit. Im Gespräch mit
  Universitätsprofessor Wolfgang Kersten werden praktische Beispiele und e
 rfolgreiche Projekte aus Hamburg vorgestellt.\n\nFür die Teilnahme an die
 sem Event ist eine Anmeldung auf dem M-POINT Unternehmerportal NICHT ausre
 ichend.\n\nVielmehr ist es unbedingt erforderlich\, die Anmeldung beim Ver
 anstalter direkt vorzunehmen.\n\nDen Anmeldeprozess findest Du hier!\n\n&n
 bsp\;\n\nWeitere Termine und Themen dieser Weinarreihe:\n\nInnovation durc
 h strategische Partnerschaften und Kooperationen mit Startups\n\n 	Edda Be
 cker\, Venture Client Managerin\, OBI Group Holding\n 	Dirk Ploss\, Senior
  Early Innovation Manager\, Beiersdorf AG\n\nDonnerstag\, 16. November 202
 3\, 17 bis 18 Uhr\nJetzt anmelden\n\nInnovation durch die systematische Be
 teiligung an Startups\n\n 	Dr. John Lange\, Gründer\, AI.FUND &amp\; CVC 
 Circle Hamburg\, Managing Partner\, Accentor Digital\n\nDienstag\, 21. Nov
 ember 2023\, 17 bis 18 Uhr\nJetzt anmelden\n\nBitte melde Dich für alle T
 ermine separat an und werde Teil dieser inspirierenden Reise in die Welt d
 er Innovation!\n\n&nbsp\;\n\n&nbsp\;\n\n&nbsp\;
ATTACH;FMTTYPE=image/jpeg:https://mpoint.biz/wp-content/uploads/2024/07/KO
 OP-HK-KMU.webp
CATEGORIES:Mitglied
END:VEVENT
BEGIN:VTIMEZONE
TZID:Europe/Berlin
X-LIC-LOCATION:Europe/Berlin
BEGIN:STANDARD
DTSTART:20231029T020000
TZOFFSETFROM:+0200
TZOFFSETTO:+0100
TZNAME:CET
END:STANDARD
END:VTIMEZONE
END:VCALENDAR