BEGIN:VCALENDAR
VERSION:2.0
PRODID:-//wp-events-plugin.com//6.6.3//EN
TZID:Europe/Berlin
X-WR-TIMEZONE:Europe/Berlin
BEGIN:VEVENT
UID:908@mpoint.biz
DTSTART;TZID=Europe/Berlin:20240313T160000
DTEND;TZID=Europe/Berlin:20240313T173000
DTSTAMP:20240701T124931Z
URL:https://mpoint.biz/events/ki-ready-ist-dein-business-bereit-fuer-den-k
 i-einsatz/
SUMMARY:KI-Ready:  Ist Dein Business bereit für den KI-Einsatz?
DESCRIPTION:In diesem interaktiven Workshop der Handelskammer Hamburg wirst
  Du erfahren\, wie Du KI gewinnbringend in Deinem Unternehmen einsetzen ka
 nnst!\n\nKünstliche Intelligenz ist zweifellos ein heißes Thema\, aber w
 as genau braucht es jenseits des Hypes\, um KI effektiv in Deinem Unterneh
 men zu nutzen? Experten stehen bereit\, um mit Dir die konkreten Vorarbeit
 en und Bedingungen zu erkunden\, die erforderlich sind\, um den KI-Reifegr
 ad Deines Betriebs zu bestimmen und die Potenziale sowie Herausforderungen
  des KI-Einsatzes zu verstehen.\n\nwerden folgende Bereiche ausführlich b
 ehandelt:\n\n 	Einführung in die Welt der Künstlichen Intelligenz: Was g
 enau verbirgt sich hinter dem Begriff?\n 	Die Chancen und Herausforderunge
 n\, die der Einsatz Künstlicher Intelligenz mit sich bringt.\n 	Strategie
 n zur Erreichung der KI-Readiness in Deinem Unternehmen.\n 	Der konkrete W
 eg zur Implementierung von KI-Lösungen.\n 	Praktische Tipps zur Durchfüh
 rung eines KI-Readiness-Checks in Deinem Unternehmen.\n 	Methoden zur Infr
 astrukturanalyse und wie diese Deinen KI-Erfolg beeinflussen kann.\n\nNutz
 e diese Gelegenheit\, um Dein Business fit für die Zukunft zu machen und 
 die Vorteile der Künstlichen Intelligenz voll auszuschöpfen!\n\nDiese sp
 annende Veranstaltung ist kostenfrei.\n\nDer Titel der Veranstaltung laute
 t:“ KI-Readiness: Ist Ihr Unternehmen bereit\, für den Einsatz von KI?
 “. \n\nFür die Teilnahme an diesem Event ist eine Anmeldung auf dem M-
 POINT Unternehmerportal NICHT ausreichend.\n\nVielmehr ist es unbedingt er
 forderlich\, die Anmeldung beim Veranstalter direkt vorzunehmen.\n\nDen An
 meldeprozess findest Du hier !
ATTACH;FMTTYPE=image/jpeg:https://mpoint.biz/wp-content/uploads/2024/07/M_
 POINT_Kooperation-Ausschnitt-auf-600-px_1000-×-800-px_-2-5.webp
END:VEVENT
BEGIN:VTIMEZONE
TZID:Europe/Berlin
X-LIC-LOCATION:Europe/Berlin
BEGIN:STANDARD
DTSTART:20231029T020000
TZOFFSETFROM:+0200
TZOFFSETTO:+0100
TZNAME:CET
END:STANDARD
END:VTIMEZONE
END:VCALENDAR