BEGIN:VCALENDAR
VERSION:2.0
PRODID:-//wp-events-plugin.com//6.6.3//EN
TZID:Europe/Berlin
X-WR-TIMEZONE:Europe/Berlin
BEGIN:VEVENT
UID:1218@mpoint.biz
DTSTART;TZID=Europe/Berlin:20230413T160000
DTEND;TZID=Europe/Berlin:20230413T170000
DTSTAMP:20250108T152421Z
URL:https://mpoint.biz/events/it-sicherheit-risikofaktor-mensch-2/
SUMMARY:IT-Sicherheit - Risikofaktor Mensch!
DESCRIPTION:Die Größte Sicherheitslücke in der IT-Sicherheit eines Unter
 nehmens ist der Mensch.\nIn diesem Webinar der Handelskammer Hamburg wird 
 der Menschen als Schwachstelle und Einfallstor für Cyberangriffe beleucht
 en.\nDie Folge von Social-Engineering-Attacken kann sein\, dass sensible o
 der vertrauliche Daten gestohlen werden oder Firmengeheimnisse veröffentl
 icht werden.\nDie Teilnehmer lernen anhand von Beispielen\, wie man betrü
 gerische Nachrichten erkennt und Mitarbeiter dafür sensibilisieren kann.\
 nDer Titel der Veranstaltung lautet: “Social Engineering: Wie wird der M
 ensch nicht zur Sicherheitslücke?”.\n\nFür die Teilnahme an diesem Eve
 nt ist eine Anmeldung auf dem M-POINT Unternehmerportal NICHT ausreichend.
 \n\nVielmehr ist es unbedingt erforderlich\, die Anmeldung beim Veranstalt
 er direkt vorzunehmen.\n\nDen Anmeldeprozess findest Du hier !
ATTACH;FMTTYPE=image/jpeg:https://mpoint.biz/wp-content/uploads/2024/07/M_
 POINT_Kooperation-Ausschnitt-auf-600-px_1000-×-800-px_-2-1.webp
CATEGORIES:Mitglied
END:VEVENT
BEGIN:VTIMEZONE
TZID:Europe/Berlin
X-LIC-LOCATION:Europe/Berlin
BEGIN:DAYLIGHT
DTSTART:20230326T030000
TZOFFSETFROM:+0100
TZOFFSETTO:+0200
TZNAME:CEST
END:DAYLIGHT
END:VTIMEZONE
END:VCALENDAR