BEGIN:VCALENDAR
VERSION:2.0
PRODID:-//wp-events-plugin.com//6.6.3//EN
TZID:Europe/Berlin
X-WR-TIMEZONE:Europe/Berlin
BEGIN:VEVENT
UID:1605@mpoint.biz
DTSTART;TZID=Europe/Berlin:20250402T093000
DTEND;TZID=Europe/Berlin:20250402T140000
DTSTAMP:20250404T070006Z
URL:https://mpoint.biz/events/ip-awareness-day-2025-schuetze-was-dich-einz
 igartig-macht/
SUMMARY:IP-Awareness-Day 2025 – Schütze\, was Dich einzigartig macht!
DESCRIPTION:Stell Dir vor\, Du hast monatelang an einer genialen Idee gearb
 eitet – ein Produkt\, ein Slogan\, ein Design\, das Deine Marke unverwec
 hselbar macht. Dein USP\, Deine Handschrift. Und dann siehst Du\, wie ande
 re von Deiner Idee profitieren. Was nun?\n\nGenau darum geht es beim  IP-
 Awareness-Day 2025 unseres Kooperationspartner die Handelskammer Hamburg\,
 : Wie schützt Du Dein Marketing strategisch? Welche Deiner Alleinstellung
 smerkmale sind überhaupt schützbar? Und was passiert\, wenn KI mitmischt
  – sind ihre Inhalte geschützt oder frei verfügbar?\n\nErlebe spannend
 e Keynotes von hochkarätigen Experten wie Bernd Maile\, Vizepräsident de
 s Deutschen Patent- und Markenamts\, und diskutiere mit Profis aus Wirtsch
 aft\, Recht und Innovation über Intellectual Property (IP) in der Praxis.
  Welche Schutzstrategien funktionieren? Welche Fehler solltest Du vermeide
 n? Und wie kannst Du mit KI und IP Deinen USP stärken?\n\nNutze die Geleg
 enheit\, Dein Wissen zu vertiefen\, neue Impulse für Dein Marketing mitzu
 nehmen und Dich mit Gleichgesinnten zu vernetzen. Sei dabei – am 2. Apri
 l 2025 in der Handelskammer Hamburg!\n\n⏰ Wann? 02.04.2025\, 09:30-14:00
  Uhr\n📍 Wo? Handelskammer Hamburg\n\nEine Anmeldungen direkt beim Anbie
 ter ist erforderlich!\n\nMelde Dich bitte HIER an. Wir freuen uns auf Dich
 ! 🚀
CATEGORIES:Kooperationspartner
LOCATION:Handelskammer Hamburg\, Adolphsplatz 1\, Hamburg\, 20457\, Deutsch
 land
GEO:53.549955;9.991481
X-APPLE-STRUCTURED-LOCATION;VALUE=URI;X-ADDRESS=Adolphsplatz 1\, Hamburg\, 
 20457\, Deutschland;X-APPLE-RADIUS=100;X-TITLE=Handelskammer Hamburg:geo:5
 3.549955,9.991481
END:VEVENT
BEGIN:VTIMEZONE
TZID:Europe/Berlin
X-LIC-LOCATION:Europe/Berlin
BEGIN:DAYLIGHT
DTSTART:20250330T030000
TZOFFSETFROM:+0100
TZOFFSETTO:+0200
TZNAME:CEST
END:DAYLIGHT
END:VTIMEZONE
END:VCALENDAR