BEGIN:VCALENDAR
VERSION:2.0
PRODID:-//wp-events-plugin.com//6.6.3//EN
TZID:Europe/Berlin
X-WR-TIMEZONE:Europe/Berlin
BEGIN:VEVENT
UID:767@mpoint.biz
DTSTART;TZID=Europe/Berlin:20230701T190000
DTEND;TZID=Europe/Berlin:20230701T235900
DTSTAMP:20240701T124741Z
URL:https://mpoint.biz/events/interesse-an-medienkontakten/
SUMMARY:Interesse an Medienkontakten?
DESCRIPTION:Du möchtest Medienkontakte knüpfen? Dann solltest Du unbeding
 t zum 73. Hamburger Presseball kommen!\nDieser festliche Abend findet in d
 em Hotel Grand Elysée Hamburg statt und bietet Dir eine exzellente Gelege
 nheit\, Dich mit Medienvertretern\, Journalisten\, Politikern\, Prominente
 n und Entscheidungsträgern aus verschiedenen Branchen zu vernetzen.\n\nDe
 r Presseball zieht viel Aufmerksamkeit von der Presse und den Medien auf s
 ich und bietet somit den perfekten Rahmen für Deine Networking-Aktivität
 en. Stell Dir vor\, Du erlebst einen Abend voller Kultur\, Entertainment u
 nd Gelegenheiten zum Austausch und zur Kontaktpflege.\n\nZusätzlich unter
 stützt der Presseball die Stiftung der Hamburger Presse\, sodass Du nicht
  nur ein fantastisches Event erlebst\, sondern auch einen guten Zweck unte
 rstützt.\n\nDresscode: Feierliche Abendgarderobe.\n\nPreis pro Karte am M
 -POINT Tisch: 250\,-- € inkl. MwSt.\n\nDer Hamburger Presseball ist eine
 s der bedeutendsten gesellschaftlichen Ereignisse der Hansestadt.\n\nAlso 
 sei mit uns dabei!
ATTACH;FMTTYPE=image/jpeg:https://mpoint.biz/wp-content/uploads/2024/07/73
 .-Hamburger-Presseball.webp
LOCATION:NAVIGATOR-finanzhaus\, Mühlenstraße 22\, Rellingen\, 25462\, 
GEO:53.6450486;9.838531500000045
X-APPLE-STRUCTURED-LOCATION;VALUE=URI;X-ADDRESS=Mühlenstraße 22\, Relling
 en\, 25462\, ;X-APPLE-RADIUS=100;X-TITLE=NAVIGATOR-finanzhaus:geo:53.64504
 86,9.838531500000045
END:VEVENT
BEGIN:VTIMEZONE
TZID:Europe/Berlin
X-LIC-LOCATION:Europe/Berlin
BEGIN:DAYLIGHT
DTSTART:20230326T030000
TZOFFSETFROM:+0100
TZOFFSETTO:+0200
TZNAME:CEST
END:DAYLIGHT
END:VTIMEZONE
END:VCALENDAR