BEGIN:VCALENDAR
VERSION:2.0
PRODID:-//wp-events-plugin.com//6.6.3//EN
TZID:Europe/Berlin
X-WR-TIMEZONE:Europe/Berlin
BEGIN:VEVENT
UID:1087@mpoint.biz
DTSTART;TZID=Europe/Berlin:20220726T190000
DTEND;TZID=Europe/Berlin:20220726T200000
DTSTAMP:20250108T152404Z
URL:https://mpoint.biz/events/in-4-schritten-zur-erfolgreichen-selbstaendi
 gkeit/
SUMMARY:In 4 Schritten zur erfolgreichen Selbständigkeit
DESCRIPTION:Wie es möglich ist\, dass der Start in die Selbständigkeit an
 genehm und sicher ist\, stelle ich euch in diesem Event vor.\nDie 4 Schrit
 te habe ich für mich und meine Selbständigkeit entwickelt und gebe sie d
 ir gern weiter.\n\n  Dara (Gudrun Dara Müller\, Heilpraktikerin + Busi
 ness Angel)\nhttp://www.selbstheilungsberatung.de/\n\n⏰\nWANN?\nDienstag
  den 26. 7 um 19:00 Uhr\nDer Raum ist ab 18:50 Uhr offen\n\n \nWO?\nOnline
  per Zoom über diesen Link\;\nhttps://us02web.zoom.us/j/84764186440?pwd=T
 VH8Euf3Pkk6suw_yg7bjwzrrjGLNa.1\nMeeting-ID: 847 6418 6440\nKenncode: 9911
 99\n\n&nbsp\;
ATTACH;FMTTYPE=image/jpeg:https://mpoint.biz/wp-content/uploads/2024/07/fo
 rward-3351497_640-1.webp
CATEGORIES:Mitglied
END:VEVENT
BEGIN:VTIMEZONE
TZID:Europe/Berlin
X-LIC-LOCATION:Europe/Berlin
BEGIN:DAYLIGHT
DTSTART:20220327T030000
TZOFFSETFROM:+0100
TZOFFSETTO:+0200
TZNAME:CEST
END:DAYLIGHT
END:VTIMEZONE
END:VCALENDAR