BEGIN:VCALENDAR
VERSION:2.0
PRODID:-//wp-events-plugin.com//6.6.3//EN
TZID:Europe/Berlin
X-WR-TIMEZONE:Europe/Berlin
BEGIN:VEVENT
UID:1457@mpoint.biz
DTSTART;TZID=Europe/Berlin:20240417T170000
DTEND;TZID=Europe/Berlin:20240417T210000
DTSTAMP:20250108T152458Z
URL:https://mpoint.biz/events/hk-hamburg-messe-chancen-nutzen-talente-bind
 en-2/
SUMMARY:Marketing Revolution 2.0: KI Power\, Tools & Trends Unleashed!
DESCRIPTION:Unser Kooperationspartner die Handelskammer Hamburg\n\nlädt ei
 n zur "Next Level Marketing: KI\, Tools &amp\; Trends" Veranstaltung\, wo 
 Du die Zukunft des Marketings erleben wirst! Tauche ein in die Welt der K
 ünstlichen Intelligenz im Marketing und entdecke\, wie kleine und mittler
 e Unternehmen ihre Effizienz steigern und Kunden personalisiert ansprechen
  können.\n\nVerschiedene Keynotes präsentieren Dir erfolgreiche KI-Anwen
 dungen im Marketing und zeigen Möglichkeiten zur Effizienzsteigerung in d
 er Content-Erstellung\, personalisierten Kundenansprache und datengetriebe
 nen Entscheidungsfindung auf.\n\nErfahre in spannenden Vorträgen die tran
 sformative Kraft von KI-gestützter Suchmaschinenoptimierung (SEO) für di
 e Logistikbranche und wie eine durchdachte SEO-Strategie nachhaltige Wettb
 ewerbsvorteile verschafft.\n\nEntdecke live\, wie KI-Tools wie ChatGPT eff
 izient in Deiner Content-Strategie eingesetzt werden können\, um automati
 sierte Planung und innovative KI-Anwendungen zu nutzen.\n\nFreue Dich auß
 erdem auf Networking-Möglichkeiten und eine Mini-Expo\, die Dir faszinier
 ende Einblicke in KI-Erlebnisstationen bietet. Knüpfe Kontakte\, tausche 
 Ideen aus und gestalte gemeinsam die Zukunft Deines Marketings!\n\nSei dab
 ei und lass Dich von inspirierenden Einblicken\, Live-Demonstrationen und 
 Networking-Gelegenheiten begeistern. Gemeinsam die Zukunft des Marketings 
 gestalten!\n\nFür die Teilnahme an diesem Event ist eine Anmeldung auf de
 m M-POINT Unternehmerportal NICHT ausreichend.\n\nVielmehr ist es unbeding
 t erforderlich\, die Anmeldung beim Veranstalter direkt vorzunehmen.\n\nDe
 n Anmeldeprozess findest Du hier!
ATTACH;FMTTYPE=image/jpeg:https://mpoint.biz/wp-content/uploads/2024/07/KO
 OP.webp
CATEGORIES:Kooperationspartner
LOCATION:Hamburger Volksbank\, Hammerbrookstraße 63 - 65\, Hamburg\, 20097
 \, 
GEO:53.547718;10.02344560000006
X-APPLE-STRUCTURED-LOCATION;VALUE=URI;X-ADDRESS=Hammerbrookstraße 63 - 65\
 , Hamburg\, 20097\, ;X-APPLE-RADIUS=100;X-TITLE=Hamburger Volksbank:geo:53
 .547718,10.02344560000006
END:VEVENT
BEGIN:VTIMEZONE
TZID:Europe/Berlin
X-LIC-LOCATION:Europe/Berlin
BEGIN:DAYLIGHT
DTSTART:20240331T030000
TZOFFSETFROM:+0100
TZOFFSETTO:+0200
TZNAME:CEST
END:DAYLIGHT
END:VTIMEZONE
END:VCALENDAR