BEGIN:VCALENDAR
VERSION:2.0
PRODID:-//wp-events-plugin.com//6.6.3//EN
TZID:Europe/Berlin
X-WR-TIMEZONE:Europe/Berlin
BEGIN:VEVENT
UID:1727@mpoint.biz
DTSTART;TZID=Europe/Berlin:20260415T150000
DTEND;TZID=Europe/Berlin:20260415T220000
DTSTAMP:20260312T095446Z
URL:https://mpoint.biz/events/handelskammer-on-tour-harburg/
SUMMARY:Handelskammer on Tour - Harburg
DESCRIPTION:Wenn Wirtschaft\, Wissenschaft\, Politik und Kultur gemeinsam 
 über die Zukunft eines Standorts sprechen\, entsteht mehr als ein klassis
 ches Netzwerktreffen. „Handelskammer Hamburg on Tour“ bringt zentrale 
 wirtschaftliche Themen direkt in die Bezirke – dorthin\, wo Innovation e
 ntsteht und Transformation konkret gestaltet wird.\nIm Fokus der kommenden
  Veranstaltung steht Harburg als wachsender Innovations- und Wissenschafts
 standort im Süden Hamburgs. Unternehmerinnen und Unternehmer\, Start-ups\
 , Industrie\, Wissenschaft und Studierende kommen zusammen\, um über Chan
 cen\, Herausforderungen und Zukunftsperspektiven des Standorts zu diskutie
 ren.\nEin hochkarätig besetztes Bühnenprogramm\, Best Practices aus der 
 Start-up-Szene\, Workshops zu unternehmerischer Resilienz sowie kostenfrei
 e Beratungen zu Themen wie Gründung\, Finanzierung\, Nachfolge\, Energie 
 und nachhaltige Transformation bieten praxisnahe Impulse und neue Kontakte
 .\nOffen. Praxisnah. Vernetzt.Mehr Informationen zum Programm und zur Teil
 nahme finden Sie hier\n\n\n🕒 Wann?\nMittwoch\, 15. 04. 2026\n15:00 - 22
 :00 Uhr\n\nℹ️ Wichtig\nEine Anmeldung direkt beim Anbieter ist erforde
 rlich!\n\n\n👉Melde Dich hier an!\n&nbsp\;\n\n&nbsp\;
ATTACH;FMTTYPE=image/jpeg:https://mpoint.biz/wp-content/uploads/2024/07/KO
 OP-3.webp
CATEGORIES:Kooperationspartner
END:VEVENT
BEGIN:VTIMEZONE
TZID:Europe/Berlin
X-LIC-LOCATION:Europe/Berlin
BEGIN:DAYLIGHT
DTSTART:20260329T030000
TZOFFSETFROM:+0100
TZOFFSETTO:+0200
TZNAME:CEST
END:DAYLIGHT
END:VTIMEZONE
END:VCALENDAR