BEGIN:VCALENDAR
VERSION:2.0
PRODID:-//wp-events-plugin.com//6.6.3//EN
TZID:Europe/Berlin
X-WR-TIMEZONE:Europe/Berlin
BEGIN:VEVENT
UID:1557@mpoint.biz
DTSTART;TZID=Europe/Berlin:20241111T090000
DTEND;TZID=Europe/Berlin:20241111T180000
DTSTAMP:20250108T152516Z
URL:https://mpoint.biz/events/hamburger-zukunfts-konferenz-2024-innovation
 -trifft-nachhaltigkeit/
SUMMARY:Hamburger Zukunfts-Konferenz 2024: Innovation trifft Nachhaltigkeit
DESCRIPTION:Unser Kooperationspartner\, die Handelskammer Hamburg\, veranst
 altet zusammen mit der Universität Hamburg die diesjährigen Hamburger Zu
 kunfts-Konferenz. Hier werden die wichtigsten Stakeholder der Wissens- und
  Wirtschaftsmetropole vernetzt.\n\nDas Ziel ist mit wegweisende Zukunftsst
 rategien Visionen für eine innovative\, nachhaltige Zukunft zu entwickeln
  und Hamburg als internationalen Wirtschafts- und Wissensstandort zu stär
 ken. Entscheider und Experten aus Wissenschaft\, Wirtschaft und Politik ar
 beiten zusammen\, um die „Twin Transformation“ – die Verbindung von 
 digitaler Transformation und nachhaltiger Entwicklung – zu gestalten.\n\
 nVon 09:00 bis 18:00 Uhr erwartet Dich ein intensives Programm mit interak
 tiven Diskussionen\, spannenden Einblicken in die aktuellsten Forschungser
 gebnisse und praxisnahen Ansätzen zur wirtschaftlichen Umsetzung.\n\nVerp
 asse nicht diese einmalige Gelegenheit zum Netzwerken und Mitgestalten der
  Zukunft.\n\nFür die Teilnahme ist eine direkte Anmeldung beim Veranstalt
 er erforderlich.\n\nHier geht es zur Anmeldung und dem vollständigen Prog
 ramm.
ATTACH;FMTTYPE=image/jpeg:https://mpoint.biz/wp-content/uploads/2024/12/M_
 POINT_Kooperation-Ausschnitt-auf-600-px_1000-×-800-px_-4.webp
CATEGORIES:Kooperationspartner
LOCATION:Bogenparcours Stellmoor\, Schemmannstraße 56\, Hamburg\, 22359\, 
GEO:53.6482;10.145980000000009
X-APPLE-STRUCTURED-LOCATION;VALUE=URI;X-ADDRESS=Schemmannstraße 56\, Hambu
 rg\, 22359\, ;X-APPLE-RADIUS=100;X-TITLE=Bogenparcours Stellmoor:geo:53.64
 82,10.145980000000009
END:VEVENT
BEGIN:VTIMEZONE
TZID:Europe/Berlin
X-LIC-LOCATION:Europe/Berlin
BEGIN:STANDARD
DTSTART:20241027T020000
TZOFFSETFROM:+0200
TZOFFSETTO:+0100
TZNAME:CET
END:STANDARD
END:VTIMEZONE
END:VCALENDAR