BEGIN:VCALENDAR
VERSION:2.0
PRODID:-//wp-events-plugin.com//6.6.3//EN
TZID:Europe/Berlin
X-WR-TIMEZONE:Europe/Berlin
BEGIN:VEVENT
UID:1638@mpoint.biz
DTSTART;TZID=Europe/Berlin:20250702T090000
DTEND;TZID=Europe/Berlin:20250702T170000
DTSTAMP:20250707T070030Z
URL:https://mpoint.biz/events/hamburger-aussenwirtschaftstag-2025-deine-ro
 admap-durch-die-globale-disruption/
SUMMARY:Hamburger Außenwirtschaftstag 2025 – Deine Roadmap durch die glo
 bale Disruption
DESCRIPTION:Was passiert\, wenn bewährte Spielregeln im Welthandel plötzl
 ich nicht mehr gelten? Wenn KI\, geopolitische Spannungen und neue Marktf
 ührer aus den USA oder China das Spielfeld neu ordnen? Genau darüber spr
 echen wir beim 2. Hamburger Außenwirtschaftstag am 2. Juli 2025 – die H
 andelskammer Hamburg lädt Dich ein\, mit dabei zu sein.\n\nVon 9:00 bis 1
 7:00 Uhr erwarten Dich geballtes Know-how\, spannende Einblicke und persö
 nliche Beratung rund um das Thema „Disruption in der Außenwirtschaft“
 . Ob Du dein Business internationaler aufstellen willst oder wissen möcht
 est\, wie Du in unsicheren Zeiten richtig agierst – hier bekommst Du das
  nötige Rüstzeug.\n\nWas Dich erwartet:\n🔹 Keynotes &amp\; Diskussion
 en mit führenden Expertinnen und Experten zu disruptiven Geschäftsmodell
 en\, globalen Handelsentwicklungen und der Rolle von Künstlicher Intellig
 enz im Außenhandel.\n🔹 Regionale Breakout-Sessions mit Fokus auf Afrik
 a\, Asien\, Lateinamerika\, Nordamerika und Südosteuropa.\n🔹 Finanzier
 ungs- und Absicherungstipps für Deine internationalen Projekte.\n🔹 Kos
 tenfreie 1:1-Beratung durch AHKs\, Euler Hermes\, PwC und weitere Profis 
 – exklusiv nach Anmeldung buchbar.\n\nDu willst wissen\, wo Chancen für
  Dein Unternehmen liegen – trotz (oder gerade wegen) der globalen Umbrü
 che? Dann ist der Außenwirtschaftstag Dein Kompass.\n\n📅 Mittwoch\, 02
 . Juli 2025\n🕘 09:00 – 17:00 Uhr\n📍 Handelskammer Hamburg\n🎟️
  Teilnahme kostenfrei – Anmeldung erforderlich\n\nEine Anmeldung direkt 
 beim Anbieter ist erforderlich!\n\n👉 Jetzt HIER anmelden und Deinen Pla
 tz sichern!
CATEGORIES:Kooperationspartner
END:VEVENT
BEGIN:VTIMEZONE
TZID:Europe/Berlin
X-LIC-LOCATION:Europe/Berlin
BEGIN:DAYLIGHT
DTSTART:20250330T030000
TZOFFSETFROM:+0100
TZOFFSETTO:+0200
TZNAME:CEST
END:DAYLIGHT
END:VTIMEZONE
END:VCALENDAR