BEGIN:VCALENDAR
VERSION:2.0
PRODID:-//wp-events-plugin.com//6.6.3//EN
TZID:Europe/Berlin
X-WR-TIMEZONE:Europe/Berlin
BEGIN:VEVENT
UID:518@mpoint.biz
DTSTART;TZID=Europe/Berlin:20200821T103000
DTEND;TZID=Europe/Berlin:20200821T113000
DTSTAMP:20240701T124159Z
URL:https://mpoint.biz/events/gratis-online-event-in-5-schritten-zur-steig
 erung-des-werts-ihres-unternehmens/
SUMMARY:Gratis Online Event: !In 5 Schritten zur Steigerung des Werts Ihres
  Unternehmens"
DESCRIPTION:Online Veranstaltung\n\nWie hoch ist der Wert Ihres Unternehmen
 s?\n\nWie kann er gesteigert werden?\n\nWie kann der Unternehmenswert in d
 ie Unternehmensführung eingearbeitet werden?\n\nZu welchen Anlässen ben
 ötige ich den Unternehmenswert?
ATTACH;FMTTYPE=image/jpeg:https://mpoint.biz/wp-content/uploads/2024/07/Im
 agebild-fuer-Gruppe-Unternehmensnachfolge-bei-m-point-3.jpg
END:VEVENT
BEGIN:VTIMEZONE
TZID:Europe/Berlin
X-LIC-LOCATION:Europe/Berlin
BEGIN:DAYLIGHT
DTSTART:20200329T030000
TZOFFSETFROM:+0100
TZOFFSETTO:+0200
TZNAME:CEST
END:DAYLIGHT
END:VTIMEZONE
END:VCALENDAR