BEGIN:VCALENDAR
VERSION:2.0
PRODID:-//wp-events-plugin.com//6.6.3//EN
TZID:Europe/Berlin
X-WR-TIMEZONE:Europe/Berlin
BEGIN:VEVENT
UID:786@mpoint.biz
DTSTART;TZID=Europe/Berlin:20230804T200000
DTEND;TZID=Europe/Berlin:20230804T220000
DTSTAMP:20240701T124755Z
URL:https://mpoint.biz/events/gong-konzert-4/
SUMMARY:Gong Konzert
DESCRIPTION:Gong Konzert \n\nDie Welt ist Klang.\n\nEntdecke die transforma
 tive Kraft der Meditation und Gong-Meditation für mehr Resilienz und Ausg
 eglichenheit. Durch gezielte Entspannungstechniken beruhigt sich das Nerve
 nsystem\, Stress wird reduziert und die innere Stärke gestärkt. Tauche e
 in in die wohltuende Welt der Klänge und finde eine tiefe Verbindung zu d
 ir selbst.​\n\nStühle\, Matten\, Kissen\, Decken sind vorhanden.\n\n20
 € Pro Person\nhttps://tobiasrajafischer.de/tickets
ATTACH;FMTTYPE=image/jpeg:https://mpoint.biz/wp-content/uploads/2024/07/Ko
 pie-von-Gong-Konzert-Hamburg-1920-×-1920-px1.webp
LOCATION:M-Point\, Ludwig-Erhard-Str. 18\, Hamburg\, 20459\, Deutschland
GEO:53.549429;9.979908
X-APPLE-STRUCTURED-LOCATION;VALUE=URI;X-ADDRESS=Ludwig-Erhard-Str. 18\, Ham
 burg\, 20459\, Deutschland;X-APPLE-RADIUS=100;X-TITLE=M-Point:geo:53.54942
 9,9.979908
END:VEVENT
BEGIN:VTIMEZONE
TZID:Europe/Berlin
X-LIC-LOCATION:Europe/Berlin
BEGIN:DAYLIGHT
DTSTART:20230326T030000
TZOFFSETFROM:+0100
TZOFFSETTO:+0200
TZNAME:CEST
END:DAYLIGHT
END:VTIMEZONE
END:VCALENDAR