BEGIN:VCALENDAR
VERSION:2.0
PRODID:-//wp-events-plugin.com//6.6.3//EN
TZID:Europe/Berlin
X-WR-TIMEZONE:Europe/Berlin
BEGIN:VEVENT
UID:1209@mpoint.biz
DTSTART;TZID=Europe/Berlin:20230330T120000
DTEND;TZID=Europe/Berlin:20230330T124500
DTSTAMP:20250108T152421Z
URL:https://mpoint.biz/events/gesunde-mitarbeitende-gesunde-unternehmen-un
 ternehmersprechstunde-mit-dem-ernaehrungs-doc-herrn-dr-mathias-riedl/
SUMMARY:BUSINESS FIT FOOD: Gesünder im Unternehmen mit Ernährungsdoc Dr. 
 Matthias Riedl
DESCRIPTION:Die meisten Krankheiten entstehen durch falsches Verhalten - im
  Besonderen durch ungesunde Ernährung.\n\nDas hat erhebliche Auswirkungen
  auf die Betriebe\, den Krankenstand und die Leistungsfähigkeit der Mitar
 beiter… und natürlich auch der Unternehmer.\n\nWas ist zu tun?\n\nGuter
  Rat und praktische Vorschläge gibt es von Deutschlands Ernährungsexpert
 en Nr. 1\, Dr. Matthias Riedl\, dem Ernährungs-Doc.\n\nUnser kompetenter 
 Gesprächspartner bietet neue Antworten auf die zunehmenden Zivilisationsk
 rankheiten wie Diabetes\, Depression\, Übergewicht\, Darmprobleme\, Arthr
 ose\, Rheuma und sogar Migräne.\n\nAußerdem erfährst Du in diesem 45-mi
 nütigen Live-Call\, wie Unternehmen durch ein aktives betriebliches Gesun
 dheitsmanagement ihre Attraktivität für Fachkräfte steigern können.\n\
 nSei dabei und stelle Deine Fragen im Live-Chat.\n\nModeriert wird der Vid
 eo-Call von unserem Netzwerkgründer Thomas Götzinger.\n\nDer Call findet
  zusammen mit unserem Kooperationspartner\, der Handelskammer Hamburg\, st
 att und wird von dort auch live gestreamt.\n\n!!!ACHTUNG! WICHTIGE ÄNDERU
 NG!!!\n\nUnsere Veranstaltung findet digital statt. Da die Handelskammer H
 amburg den Zugangslink generieren wird\, ist eine Anmeldung über unser Po
 rtal ist NICHT ausreichend! Bitte melde Dich unter folgenden Link: https:/
 /hamburger-wirtschaft.de/.../unternehmenssprechst.../ zu dieser Veranstalt
 ung an!\n\nAlle Teilnehmer der digitalen Events sind damit einverstanden\,
  dass die Veranstaltungen per Videomitschnitt aufgezeichnet werden. Mit De
 iner Teilnahme am Event erklärst Du Dich einverstanden\, dass die Videomi
 tschnitte vom Unternehmernetzwerk M-POINT für werbliche Zwecke genutzt we
 rden dürfen.
ATTACH;FMTTYPE=image/jpeg:https://mpoint.biz/wp-content/uploads/2024/07/Dr
 ._Riedl_Depesche.webp
CATEGORIES:M-POINT
END:VEVENT
BEGIN:VTIMEZONE
TZID:Europe/Berlin
X-LIC-LOCATION:Europe/Berlin
BEGIN:DAYLIGHT
DTSTART:20230326T030000
TZOFFSETFROM:+0100
TZOFFSETTO:+0200
TZNAME:CEST
END:DAYLIGHT
END:VTIMEZONE
END:VCALENDAR