BEGIN:VCALENDAR
VERSION:2.0
PRODID:-//wp-events-plugin.com//6.6.3//EN
TZID:Europe/Berlin
X-WR-TIMEZONE:Europe/Berlin
BEGIN:VEVENT
UID:1200@mpoint.biz
DTSTART;TZID=Europe/Berlin:20230221T150000
DTEND;TZID=Europe/Berlin:20230221T170000
DTSTAMP:20250108T152418Z
URL:https://mpoint.biz/events/fuer-existenzgruender-was-du-bei-einkommenst
 euer-und-umsatzsteuer-wirklich-beachten-solltest-2-2/
SUMMARY:Rettung in Sicht?
DESCRIPTION:Unternehmen\, die nicht zahlungsunfähig\, sondern z.B. infolge
  der COVID-19-Pandemie überschuldet sind\, können die Wende schaffen - m
 ithilfe des Beratungsangebotes der Handelskammer Hamburg: Im Video-Chat ko
 mmen Unternehmer*innen sowohl mit Experten der Handelskammer als auch mit 
 Insolvenzanwälten zusammen\, besprechen gemeinsam die Situation und suche
 n Wege aus der Krise.\n\nDer Titel der Veranstaltung der Handelskammer lau
 tet: "Droht die Insolvenz? Individuelle Kriesenberatung!".\n\nBitte lese D
 ir die Veranstaltungsdetails auf der Anmeldeseite der Handelskammer Hambur
 g genau durch\, da es einer separaten telefonischer Anmeldung bedarf.\n\nD
 enn Anmeldeprozess findest Du hier!\n\n&nbsp\;
ATTACH;FMTTYPE=image/jpeg:https://mpoint.biz/wp-content/uploads/2024/07/M_
 POINT_Kooperation-Ausschnitt-auf-600-px_1000-×-800-px_-1.webp
CATEGORIES:Mitglied
END:VEVENT
BEGIN:VTIMEZONE
TZID:Europe/Berlin
X-LIC-LOCATION:Europe/Berlin
BEGIN:STANDARD
DTSTART:20221030T020000
TZOFFSETFROM:+0200
TZOFFSETTO:+0100
TZNAME:CET
END:STANDARD
END:VTIMEZONE
END:VCALENDAR