BEGIN:VCALENDAR
VERSION:2.0
PRODID:-//wp-events-plugin.com//6.6.3//EN
TZID:Europe/Berlin
X-WR-TIMEZONE:Europe/Berlin
BEGIN:VEVENT
UID:444@mpoint.biz
DTSTART;TZID=Europe/Berlin:20200520T090000
DTEND;TZID=Europe/Berlin:20200520T100000
DTSTAMP:20240701T124147Z
URL:https://mpoint.biz/events/fruehstuecksrunde-nr-04-vertrieb-und-marketi
 ng-eigene-sichtbarkeit/
SUMMARY:Frühstücksrunde Nr. 04 | Vertrieb und Marketing | Eigene Sichtbar
 keit
DESCRIPTION:Im vergangenen Jahr hatten wir uns getroffen\, um mehr über Ve
 rtrieb und Marketing zu lernen.\n\nJetzt möchten wir unsere Frühstücksr
 unde virtuell fortsetzen!\n\nUnser Treffen wird per ZOOM erfolgen.\n\nDami
 t es weiterhin ein Arbeitsfrühstück bleibt\, es ist erlaubt und erwünsc
 ht\, das jeder Teilnehmer vor  Kamera sein Frühstück genießt!  \n\nBe
 i diesem Arbeitsfrühstück möchten wir Ideen\, Erfahrungen\, Ratschläge
  und Informationen austauschen\, damit wir unsere Kunden-Gewinnung und Erh
 altung effizienter gestalten können.\n\n\n\nAblauf:\n\n09:00 Begrüßung
  und Einführung\n\n09:05 Kurze Vorstellungsrunde\n\n09:20 Kurzvortrag v
 on Dr. Julio Aspiazu.\nEigene Sichtbarkeit erhöhen. Nicht suchen! Gefunde
 n werden!\n"Man kann nur dann gefunden werden\, wenn man sich zeigt"\nWir 
 suchen Kunden. Es wäre schöner\, wenn unsere Kunden uns suchen und schne
 ll finden! Diese Art der Kunden-Gewinnung ist nicht nur effizienter\, sond
 ern auch angenehmer und einfacher. Wie geht das? Das lernen wir mit prakti
 schen Beispielen bei der Anwendung der verschiedenen Möglichkeiten in uns
 erem Portal. Es wird also nicht nur ein theoretischer Vortrag sein\, sonde
 rn ein Workshop mit Anweisungen zur Sofortumsetzung.\n09:45 Fragen und Ant
 worten\nDie Teilnehmer zeigen erste Ergebnisse\n10:00 Ende\n\n\n\nDiese s
 ind die ZOOM-Zugangsdaten: Zoom-Meeting beitreten\nhttps://zoom.us/j/93326
 536836?pwd=SDJtbWhScDJWR0RnTUh4WFVBMms0Zz09\n\nMeeting-ID: 933 2653 6836\n
 \nPasswort: 8efZTP
ATTACH;FMTTYPE=image/jpeg:https://mpoint.biz/wp-content/uploads/2024/07/Fr
 uehstuecksrunde.jpg
END:VEVENT
BEGIN:VTIMEZONE
TZID:Europe/Berlin
X-LIC-LOCATION:Europe/Berlin
BEGIN:DAYLIGHT
DTSTART:20200329T030000
TZOFFSETFROM:+0100
TZOFFSETTO:+0200
TZNAME:CEST
END:DAYLIGHT
END:VTIMEZONE
END:VCALENDAR