BEGIN:VCALENDAR
VERSION:2.0
PRODID:-//wp-events-plugin.com//6.6.3//EN
TZID:Europe/Berlin
X-WR-TIMEZONE:Europe/Berlin
BEGIN:VEVENT
UID:1724@mpoint.biz
DTSTART;TZID=Europe/Berlin:20260408T120000
DTEND;TZID=Europe/Berlin:20260408T130000
DTSTAMP:20260309T100444Z
URL:https://mpoint.biz/events/friedrich-naumann-stiftung-skill-talk-smallt
 alk-der-tueren-oeffnet-mikro-strategien-fuer-netzwerkmomente/
SUMMARY:Friedrich Naumann Stiftung: "Skill Talk | Smalltalk\, der Türen ö
 ffnet: Mikro-Strategien für Netzwerkmomente"
DESCRIPTION: Smalltalk ist weit mehr als ein lockerer Einstieg: Er ist die 
 entscheidende Brücke zu Vertrauen\, Wirkung und neuen Allianzen. In diese
 m 60-minütigen Skilltalk entdecken wir\, wie erfolgreiche professionelle 
 Netzwerkerinnen ...
ATTACH;FMTTYPE=image/jpeg:https://mpoint.biz/wp-content/uploads/2024/07/KO
 OP-3.webp
CATEGORIES:Kooperationspartner
END:VEVENT
BEGIN:VTIMEZONE
TZID:Europe/Berlin
X-LIC-LOCATION:Europe/Berlin
BEGIN:DAYLIGHT
DTSTART:20260329T030000
TZOFFSETFROM:+0100
TZOFFSETTO:+0200
TZNAME:CEST
END:DAYLIGHT
END:VTIMEZONE
END:VCALENDAR