BEGIN:VCALENDAR
VERSION:2.0
PRODID:-//wp-events-plugin.com//6.6.3//EN
TZID:Europe/Berlin
X-WR-TIMEZONE:Europe/Berlin
BEGIN:VEVENT
UID:1620@mpoint.biz
DTSTART;TZID=Europe/Berlin:20250508T090000
DTEND;TZID=Europe/Berlin:20250508T103000
DTSTAMP:20250509T073536Z
URL:https://mpoint.biz/events/foerderfruehstueck-die-forschungszulage-als-
 strategisches-instrument-fuer-deine-innovationsfinanzierung/
SUMMARY:Förderfrühstück: Die Forschungszulage als strategisches Instrume
 nt für Deine Innovationsfinanzierung
DESCRIPTION:Unternehmen\, die in Forschung und Entwicklung investieren\, k
 önnen von der Forschungszulage gezielt profitieren – unabhängig von Br
 anche\, Größe oder Projektphase.\n\nBeim Förderfrühstück am 08. Mai 2
 025 bei unserem Kooperationspartners\, die Handelskammer Hamburg\, erhält
 st Du einen fundierten Überblick über die Möglichkeiten und Vorteile di
 eses Förderinstruments.\n\nDr. Florian Vogt und Dr. Katarzyna Ewa Rollert
  von der Innovations Kontakt Stelle (IKS) Hamburg erläutern praxisnah\, w
 ie Du die Forschungszulage für laufende\, geplante oder sogar abgeschloss
 ene F&amp\;E-Vorhaben nutzen kannst – und wie Du sie als Bestandteil Dei
 ner Finanz- und Innovationsstrategie integrierst.\n\nThemenschwerpunkte:\n
 \n 	Voraussetzungen und Förderfähigkeit von Projekten\n 	Ablauf der Antr
 agstellung und Best Practices\n 	Nutzung der Forschungszulage im strategis
 chen Unternehmenskontext\n 	Rückerstattungspotenziale von bis zu 35 %\n\n
 Nutze die Gelegenheit für kompakte Fachinformationen\, individuelle Frage
 n und den Austausch mit anderen Unternehmensvertreter:innen – in profess
 ionellem Rahmen bei einem gemeinsamen Frühstück.\n\nAblauf:\n\n 	09:00 U
 hr Begrüßung\n 	09:10 Uhr Fachlicher Impuls zur Forschungszulage\n 	09:5
 0 Uhr Offene Fragerunde\n 	10:15 Uhr Networking &amp\; Abschluss\n\nEine A
 nmeldung direkt beim Anbieter ist erforderlich!\n\nMelde Dich jetzt HIER a
 n und stärke die Innovationskraft Deines Unternehmens durch gezielte För
 derstrategien.
CATEGORIES:Kooperationspartner
LOCATION:Handelskammer Hamburg\, Adolphsplatz 1\, Hamburg \, 20457\, Deutsc
 hland
GEO:53.549276;9.990948
X-APPLE-STRUCTURED-LOCATION;VALUE=URI;X-ADDRESS=Adolphsplatz 1\, Hamburg \,
  20457\, Deutschland;X-APPLE-RADIUS=100;X-TITLE=Handelskammer Hamburg:geo:
 53.549276,9.990948
END:VEVENT
BEGIN:VTIMEZONE
TZID:Europe/Berlin
X-LIC-LOCATION:Europe/Berlin
BEGIN:DAYLIGHT
DTSTART:20250330T030000
TZOFFSETFROM:+0100
TZOFFSETTO:+0200
TZNAME:CEST
END:DAYLIGHT
END:VTIMEZONE
END:VCALENDAR