BEGIN:VCALENDAR
VERSION:2.0
PRODID:-//wp-events-plugin.com//6.6.3//EN
TZID:Europe/Berlin
X-WR-TIMEZONE:Europe/Berlin
BEGIN:VEVENT
UID:1205@mpoint.biz
DTSTART;TZID=Europe/Berlin:20230225T193000
DTEND;TZID=Europe/Berlin:20230225T213000
DTSTAMP:20250108T152418Z
URL:https://mpoint.biz/events/eventoper-la-traviata-2-2/
SUMMARY:Eventoper La Traviata
DESCRIPTION:Violetta lädt Sie in ihren Spielsalon ein! Hier trifft sich di
 e feine Gesellschaft\, auch der junge Alfredo ist unter den Gästen. Er li
 ebt die Liebe und das Spiel\, geht auf volles Risiko und träumt vom groß
 en Geld. Violetta und Alfredo verlieben sich\, doch die Liebe steht unter 
 keinem guten Stern... Das Foyer und der Saal des Opernlofts werden hier zu
 m großen Casino. An den Spieltischen kann das eigene Glück herausgeforde
 rt werden. Und wenn es an einem mal nicht so rund läuft\, können Sie ein
 fach zu einem anderen Tisch wechseln! Sollte das Spiel mit dem Glück Ihne
 n doch nicht ganz geheuer sein\, können Sie das bunte Treiben aber auch e
 ntspannt von der VIP-Lounge aus beobachten. Rien ne va plus!\n\nIn der ers
 ten Kategorie buchen Sie unsere Casino-Plätze und sind damit mittendrin\,
  Sie dürfen sich frei im Saal von Spieltisch zu Spieltisch bewegen oder d
 irekt selbst auf den Barhockern Platz nehmen. Auf den Plätzen der zweiten
  Kategorie kann das bunte Treiben dagegen in Ruhe von den etwas erhöhten 
 Logen-Plätzen aus beobachtet werden. Wem mehr Abstand lieber ist\, kann P
 lätze in den Kategorien 3 oder 4 buchen und nimmt auf der der Zuschauertr
 ibüne platz.\n\nBei Interesse buchen sie bitte  ihre Karten unter ticket
 s.opernloft.de
ATTACH;FMTTYPE=image/jpeg:https://mpoint.biz/wp-content/uploads/2024/07/tr
 aviata_neu-1.webp
CATEGORIES:Mitglied
LOCATION:M-POINT\, Ludwig-Erhard-Str. 18\, Hamburg\, 20459\, Deutschland
GEO:53.549429;9.979908
X-APPLE-STRUCTURED-LOCATION;VALUE=URI;X-ADDRESS=Ludwig-Erhard-Str. 18\, Ham
 burg\, 20459\, Deutschland;X-APPLE-RADIUS=100;X-TITLE=M-POINT:geo:53.54942
 9,9.979908
END:VEVENT
BEGIN:VTIMEZONE
TZID:Europe/Berlin
X-LIC-LOCATION:Europe/Berlin
BEGIN:STANDARD
DTSTART:20221030T020000
TZOFFSETFROM:+0200
TZOFFSETTO:+0100
TZNAME:CET
END:STANDARD
END:VTIMEZONE
END:VCALENDAR