BEGIN:VCALENDAR
VERSION:2.0
PRODID:-//wp-events-plugin.com//6.6.3//EN
TZID:Europe/Berlin
X-WR-TIMEZONE:Europe/Berlin
BEGIN:VEVENT
UID:1517@mpoint.biz
DTSTART;TZID=Europe/Berlin:20240822T080000
DTEND;TZID=Europe/Berlin:20240822T093000
DTSTAMP:20250108T152509Z
URL:https://mpoint.biz/events/eventbeschreibung-speed-reading-schneller-un
 d-effizienter-lesen/
SUMMARY:Speed Reading – Schneller und effizienter Lesen
DESCRIPTION:Dieses kostenfreie Online-Seminar unseres Kooperationspartners\
 , die Friedrich-Naumann-Stiftung\, vermittelt Dir die Grundlagen des Speed
  Readings und nutzt dabei kostenfreie Tools für praktische Übungen. Teil
 nehmende lernen ihre Leseeffizienz einzuschätzen und auszubauen.\n\nIn de
 r modernen Informationsgesellschaft müssen immer mehr Texte in kürzerer 
 Zeit verarbeitet werden. Langsames Lesen kostet dabei wertvolle Zeit. Die 
 Methoden des Speed Readings helfen\, Texte schneller zu lesen\, ohne das V
 erständnis zu verlieren.\n\nInhalte:\n\n 	Grundlagen des Speed Readings\n
  	Vorstellung und Übung verschiedener Methoden\n 	Individuelle Anpassung 
 der Methoden\n\nMelde Dich jetzt an und entdecke die Vorteile des Speed Re
 adings!\n\nFür die Teilnahme ist eine direkte Anmeldung beim Veranstalter
  erforderlich.\n\nDen Anmeldeprozess sowie den detaillierten Programmverla
 uf findest Du hier!
ATTACH;FMTTYPE=image/jpeg:https://mpoint.biz/wp-content/uploads/2024/12/KO
 OP-1.webp
CATEGORIES:Kooperationspartner
END:VEVENT
BEGIN:VTIMEZONE
TZID:Europe/Berlin
X-LIC-LOCATION:Europe/Berlin
BEGIN:DAYLIGHT
DTSTART:20240331T030000
TZOFFSETFROM:+0100
TZOFFSETTO:+0200
TZNAME:CEST
END:DAYLIGHT
END:VTIMEZONE
END:VCALENDAR