BEGIN:VCALENDAR
VERSION:2.0
PRODID:-//wp-events-plugin.com//6.6.3//EN
TZID:Europe/Berlin
X-WR-TIMEZONE:Europe/Berlin
BEGIN:VEVENT
UID:1496@mpoint.biz
DTSTART;TZID=Europe/Berlin:20240702T190000
DTEND;TZID=Europe/Berlin:20240702T203000
DTSTAMP:20250108T152505Z
URL:https://mpoint.biz/events/eventbeschreibung-populismus-in-europa-was-k
 ommt-da-auf-uns-zu-analyse-der-europa-wahl-2024/
SUMMARY:Populismus in Europa - Was kommt da auf uns zu? Analyse der Europa-
 Wahl 2024
DESCRIPTION:Unser Kooperationspartner\, die Friedrich-Naumann-Stiftung\, l
 ädt ein zu folgendem spannenden Vortrag.\n\nDas Phänomen des Populismus 
 ist so präsent wie problematisch: Ob Viktor Orban in Ungarn\, Donald Trum
 p in den USA oder Giorgia Meloni in Italien – populistische PolitikerInn
 en scheinen immer mehr Erfolg zu haben. Doch wie populär ist der Populism
 us in Europa wirklich? Wie gefährlich ist er für unsere Demokratien und 
 unser gesellschaftliches Miteinander? Und wie könnten sich die politische
 n Gewichte nach der Europawahl 2024 verschieben?\n\nGemeinsam mit der Popu
 lismusforscherin Prof. Dr. Paula Diehl analysieren wir die Ergebnisse der 
 Europawahl 2024 und diskutieren die möglichen Folgen.\n\nDie Moderation a
 n diesem Abend übernimmt der Jurnalist Meinhard Schmidt-Degenhard\n\nDie 
 Teilnahme ist kostenfrei. Für die Teilnahme ist eine direkte Anmeldung be
 im Veranstalter erforderlich.\n\nDen Anmeldeprozess sowie den detaillierte
 n Programmverlauf findest Du hier!\n\nSei dabei und diskutiere mit!
ATTACH;FMTTYPE=image/jpeg:https://mpoint.biz/wp-content/uploads/2024/07/KO
 OP-1.webp
CATEGORIES:Kooperationspartner
LOCATION:Landhaus Walter\, Otto-Wels-Straße 2\, Hamburg\, 22303\, 
GEO:53.5939937;10.015164700000014
X-APPLE-STRUCTURED-LOCATION;VALUE=URI;X-ADDRESS=Otto-Wels-Straße 2\, Hambu
 rg\, 22303\, ;X-APPLE-RADIUS=100;X-TITLE=Landhaus Walter:geo:53.5939937,10
 .015164700000014
END:VEVENT
BEGIN:VTIMEZONE
TZID:Europe/Berlin
X-LIC-LOCATION:Europe/Berlin
BEGIN:DAYLIGHT
DTSTART:20240331T030000
TZOFFSETFROM:+0100
TZOFFSETTO:+0200
TZNAME:CEST
END:DAYLIGHT
END:VTIMEZONE
END:VCALENDAR