BEGIN:VCALENDAR
VERSION:2.0
PRODID:-//wp-events-plugin.com//6.6.3//EN
TZID:Europe/Berlin
X-WR-TIMEZONE:Europe/Berlin
BEGIN:VEVENT
UID:626@mpoint.biz
DTSTART;TZID=Europe/Berlin:20220210T090000
DTEND;TZID=Europe/Berlin:20220210T113000
DTSTAMP:20240701T124402Z
URL:https://mpoint.biz/events/ermittlung-von-kundenavataren-buyer-personas
 -2/
SUMMARY:Ermittlung von Kundenavataren\, Buyer Personas
DESCRIPTION:Kundenavatare sind personalisierte Abbildungen Deiner Zielgrupp
 e.\n\nSie sind für das Marketing von Selbständigen und Unternehmern von 
 entscheidender Bedeutung.\n\nSei dabei und “lerne by doing”\, wenn das
  M-POINT Team bis zu fünf Buyer Personas entwickelt.\n\nDu kannst Dich je
 derzeit von 9:00 Uhr – 11:30 Uhr zuschalten und das Meeting entsprechend
  wieder verlassen.\n\nZoom-Meeting beitreten:\n\nhttps://us02web.zoom.us/j
 /83097481277?pwd=UEpQOFpuOHh4am96Y3R5MFlobkNSUT09\n\nMeeting-ID: 830 9748 
 1277\n\nKenncode: 170493\n\n&nbsp\;
ATTACH;FMTTYPE=image/jpeg:https://mpoint.biz/wp-content/uploads/2024/07/AV
 ATAE_EVENT_Grafik-1.png
END:VEVENT
BEGIN:VTIMEZONE
TZID:Europe/Berlin
X-LIC-LOCATION:Europe/Berlin
BEGIN:STANDARD
DTSTART:20211031T020000
TZOFFSETFROM:+0200
TZOFFSETTO:+0100
TZNAME:CET
END:STANDARD
END:VTIMEZONE
END:VCALENDAR