BEGIN:VCALENDAR
VERSION:2.0
PRODID:-//wp-events-plugin.com//6.6.3//EN
TZID:Europe/Berlin
X-WR-TIMEZONE:Europe/Berlin
BEGIN:VEVENT
UID:758@mpoint.biz
DTSTART;TZID=Europe/Berlin:20210525T190000
DTEND;TZID=Europe/Berlin:20210525T200000
DTSTAMP:20250108T152343Z
URL:https://mpoint.biz/events/entspannter-leben-mit-sicherheitsnetz/
SUMMARY:Entspannter leben mit Sicherheitsnetz
DESCRIPTION:Nachhaltig wohl fühlen mit cleveren Absicherungs- und Vorsorge
 strategien\n\nHeute im Online-Workshop:\nMehr Übersicht beim Thema Absich
 erung und Vorsorge!\n\nSie haben Fragen - wir liefern Ihnen die Antworten.
 \n\nAbsicherung und Vorsorge muss man sich leisten können - sich ungenüg
 end abzusichern und vorzusorgen aber auch \;-)\n\nSie wollen mehr Entspann
 ung bei der Vorsorge:\n\n 	Strukturiert\n 	Durchdacht\n 	Nachhaltig\n\nDan
 n seien Sie dabei!\n\nAls Berater für gesunde Finanzen in Privathaushalte
 n und Unternehmen beantwortet\n\n  Joachim Trapp in diesem Event unsere
  Fragen.\n\nZiele des Online-Workshop:\n\n 	Mehr Übersicht gewinnen\n 	Be
 ssere Strukturierung und Orientierung\n 	Impulse und Lösungsansätze\n\nS
 ei gern mit dabei!\n\nDer Meetingraum ist ab 18:45 Uhr zum Netzwerken geö
 ffnet.\n\nZoom-Meeting beitreten:\n\nhttps://us02web.zoom.us/j/89460348244
 ?pwd=aG0zYjhLbThsSXZBZTFtdWdCajF3UT09\n\nZoom-Meeting beitreten über die 
 Zoom-App:\n\nMeeting-ID: 894 6034 8244\n\nKenncode: 17032021\n\nDie Verans
 taltung wird aufgezeichnet.\n\nDie Visionärin\, Diplommathematikerin\, He
 ilerin und Heilpraktikerin\n\n  Gudrun Dara Müller moderiert das Event
 .\nSpezialisiert auf Selbstheilung und die Erforschung der Selbstheilungsk
 räfte\, erforscht sie mit ihren Freunden und Kunden\, was durch Selbstver
 antwortung sonst noch möglich ist\, jenseits der Grenzen einzelner Medizi
 nrichtungen.\n\nDas Event ist ein wichtiger Schritt\, um die Gesundheitsve
 rsicherung auf den Markt zu bringen\, die neue Möglichkeiten eröffnet.\n
 \nErfahre hier mehr über das Projekt der Selbstheilungskliniken:\nhttps:/
 /selbstheilungskliniken.de/
ATTACH;FMTTYPE=image/jpeg:https://mpoint.biz/wp-content/uploads/2024/07/va
 cations-2120259_640.jpg
CATEGORIES:Mitglied
END:VEVENT
BEGIN:VTIMEZONE
TZID:Europe/Berlin
X-LIC-LOCATION:Europe/Berlin
BEGIN:DAYLIGHT
DTSTART:20210328T030000
TZOFFSETFROM:+0100
TZOFFSETTO:+0200
TZNAME:CEST
END:DAYLIGHT
END:VTIMEZONE
END:VCALENDAR