BEGIN:VCALENDAR
VERSION:2.0
PRODID:-//wp-events-plugin.com//6.6.3//EN
TZID:Europe/Berlin
X-WR-TIMEZONE:Europe/Berlin
BEGIN:VEVENT
UID:819@mpoint.biz
DTSTART;TZID=Europe/Berlin:20231010T160000
DTEND;TZID=Europe/Berlin:20231010T170000
DTSTAMP:20240701T124822Z
URL:https://mpoint.biz/events/entdecke-die-superkraft-des-storytellings-fu
 er-dein-business/
SUMMARY:Entdecke die Superkraft des Storytellings für Dein Business
DESCRIPTION:Wie würdest Du Dein Unternehmen in nur wenigen Worten beschrei
 ben\, um jemanden davon zu überzeugen?\n\nWillst Du erfahren\, wie Du mit
  Storytelling Deine Kunden begeistern kannst und das volle Potenzial Deine
 s Unternehmens ausschöpfst?\n\nDann bist Du hier genau richtig! Bei diese
 m interaktives Webinar der Handelskammer Hamburg wirst Du in die Welt des 
 Storytellings eingeführt und es wird Dir gezeigt\, wie Du wirkungsvolle G
 eschichten für Dein Unternehmen findest und überzeugend einsetzt. Praxis
 erprobte Methoden und bewährte Techniken machen Dich zum Experten im Erz
 ählen von Geschichten.\nWährend des Webinars\, welches die ideale Grundl
 age für weitere Themen dieser Reihe bildet\, werden Dir folgende fünf Fr
 agen beantwortet\, die Dich als Online-Marketing-Profi auszeichnen:\n\n 	W
 arum ist Storytelling unverzichtbar im digitalen Marketing?\n 	Wie findest
  Du die richtige Geschichte für Dein Unternehmen?\n 	Welche Tools und Tec
 hniken kannst Du nutzen\, um effektive Geschichten zu kreieren?\n 	Wie mac
 hst Du Deine Geschichten relevant und ansprechend für Deine Zielgruppe?\n
  	Wie setzt Du Storytelling in verschiedenen Marketingkanälen wie Website
 s\, Social Media und Präsentationen effektiv ein?\n\nAber das ist noch la
 nge nicht alles - in dieser kostenfreien Veranstaltungsreihe beleuchten Ex
 perten jeden Dienstag vom 10. Oktober bis 28. November um 16 Uhr viele wei
 tere Aspekte rund um das Thema Online Marketing.\n\nMelde Dich einfach fü
 r alle Termine an\, die Dich interessieren und lass Dich inspirieren!\n\nD
 er Titel der Veranstaltung der Handelskammer in  lautet: “Finden\, Erz
 ählen\, Begeistern: Wie Sie durch die Superkraft des Storytellings das Po
 tenzial Ihres Unternehmens entfesseln”.\n\nFür die Teilnahme an dieser 
 Veranstaltung ist eine Anmeldung auf dem M-POINT Unternehmerportal NICHT a
 usreichend.\n\nVielmehr ist es unbedingt erforderlich\, die Anmeldung beim
  Veranstalter direkt vorzunehmen.\n\nDenn Anmeldeprozess findest Du hier!
ATTACH;FMTTYPE=image/jpeg:https://mpoint.biz/wp-content/uploads/2024/07/KO
 OP-HKHH-Event-Reihe-1.webp
END:VEVENT
BEGIN:VTIMEZONE
TZID:Europe/Berlin
X-LIC-LOCATION:Europe/Berlin
BEGIN:DAYLIGHT
DTSTART:20230326T030000
TZOFFSETFROM:+0100
TZOFFSETTO:+0200
TZNAME:CEST
END:DAYLIGHT
END:VTIMEZONE
END:VCALENDAR