BEGIN:VCALENDAR
VERSION:2.0
PRODID:-//wp-events-plugin.com//6.6.3//EN
TZID:Europe/Berlin
X-WR-TIMEZONE:Europe/Berlin
BEGIN:VEVENT
UID:1704@mpoint.biz
DTSTART;TZID=Europe/Berlin:20260121T190000
DTEND;TZID=Europe/Berlin:20260121T203000
DTSTAMP:20260105T100422Z
URL:https://mpoint.biz/events/ein-beitrag-der-friedrich-naumann-stiftung-c
 rashkurs-die-macht-des-ausdrucks/
SUMMARY:Ein Beitrag der Friedrich-Naumann-Stiftung: Künstliche Intelligenz
  im Arbeitsalltag ...
DESCRIPTION:&nbsp\;\n\n📘 Was?\n"Künstliche Intelligenz im Arbeitsalltag
 _Wachstums-Turbo oder Gefahr für Vielfalt und Ideenreichtum?"\nAbendveran
 staltung mit Impulsvortrag\n\nKünstliche Intelligenz prägt zunehmend den
  Arbeitsalltag und zieht Milliarden-Investitionen in Deutschland an. Studi
 en von Goldman Sachs und dem Institut der deutschen Wirtschaft zeigen: KI 
 könnte die Wertschöpfung um über 300 Mrd. Euro steigern. Gleichzeitig i
 st generative KI längst Teil der Personalauswahl – ChatGPT\, Copilot &a
 mp\; Co. sichten Bewerbungen in Sekunden. Doch Effizienz hat ihren Preis: 
 Systeme lernen aus alten Entscheidungen und bevorzugen Bewährtes. Bleibt 
 künftig noch Raum für ungewöhnliche Talente und Quereinsteiger?\n\n🕒
  Wann?\nMittwoch\, 21.01.2026\, 19:00 Uhr - 21:30 Uhr\n\n🧭 Wie?\nKosten
 frei\, eine Anmeldung direkt beim Anbieter ist erforderlich.\n\n👉 Melde
  Dich HIER an!\n\n&nbsp\;\n\n&nbsp\;
ATTACH;FMTTYPE=image/jpeg:https://mpoint.biz/wp-content/uploads/2024/07/KO
 OP-3.webp
CATEGORIES:Kooperationspartner
LOCATION:Haus der Patriotischen Gesellschaft\, Trostbrücke 4\,  Hamburg\, 
 20457\, Deutschland
GEO:53.548328;9.992329
X-APPLE-STRUCTURED-LOCATION;VALUE=URI;X-ADDRESS=Trostbrücke 4\,  Hamburg\,
  20457\, Deutschland;X-APPLE-RADIUS=100;X-TITLE=Haus der Patriotischen Ges
 ellschaft:geo:53.548328,9.992329
END:VEVENT
BEGIN:VTIMEZONE
TZID:Europe/Berlin
X-LIC-LOCATION:Europe/Berlin
BEGIN:STANDARD
DTSTART:20251026T020000
TZOFFSETFROM:+0200
TZOFFSETTO:+0100
TZNAME:CET
END:STANDARD
END:VTIMEZONE
END:VCALENDAR