BEGIN:VCALENDAR
VERSION:2.0
PRODID:-//wp-events-plugin.com//6.6.3//EN
TZID:Europe/Berlin
X-WR-TIMEZONE:Europe/Berlin
BEGIN:VEVENT
UID:878@mpoint.biz
DTSTART;TZID=Europe/Berlin:20240116T160000
DTEND;TZID=Europe/Berlin:20240116T173000
DTSTAMP:20240701T124911Z
URL:https://mpoint.biz/events/effektive-digitale-und-hybride-zusammenarbei
 t-gemeinsam-zum-erfolg/
SUMMARY:Effektive digitale und hybride Zusammenarbeit: Gemeinsam zum Erfolg
 !
DESCRIPTION:Erfahre in diesem Online-Workshop unseres Kooperationspartners\
 , die Handelskammer Hamburg\, wie man erfolgreich digital und hybrid zusam
 menarbeitet.\n\nGeführt von Dr. Romana Dreyer – eine Expertin auf dem G
 ebiet - tauchen wir gemeinsam in die Welt der positiven digitalen und hybr
 iden Zusammenarbeit!\n\n  Entdecke\, wie Du den Informationsaustausch und 
 Teamzusammenhalt sicherst\, wenn die Begegnungen hauptsächlich digital si
 nd.\n\nWelche Tools machen hybride Meetings effizient und inklusiv? Diese 
 Fragen und mehr werden interaktiv im Workshop behandelt.\n\n  Das nimmst D
 u mit:\n\n 	Einblick in neueste wissenschaftliche Erkenntnisse zur digital
 en/hybriden Zusammenarbeit.\n 	Praktische Beispiele für gelungene informe
 lle Kommunikation und starken Teamzusammenhalt.\n 	Tipps für die Gestaltu
 ng effektiver digitaler und hybrider Meetings ("Meeting Diagnose").\n 	Erf
 ahrungsaustausch mit anderen Teilnehmern.\n 	Antworten auf all Deine Frage
 n zur digitalen/hybriden Zusammenarbeit.\n\nDie Teilnahme an dieser inform
 ativen und innovativen Veranstaltung ist kostenfrei.\n\n  Bitte beachte: F
 ür die Teilnahme an diesem Event ist eine Anmeldung auf dem M-POINT Unter
 nehmerportal NICHT ausreichend.\n\nVielmehr ist es unbedingt erforderlich\
 , die Anmeldung beim Veranstalter direkt vorzunehmen.\n\nDen Anmeldeprozes
 s findest Du hier!
ATTACH;FMTTYPE=image/jpeg:https://mpoint.biz/wp-content/uploads/2024/07/M_
 POINT_Kooperation-Ausschnitt-auf-600-px_1000-×-800-px_-7.webp
END:VEVENT
BEGIN:VTIMEZONE
TZID:Europe/Berlin
X-LIC-LOCATION:Europe/Berlin
BEGIN:STANDARD
DTSTART:20231029T020000
TZOFFSETFROM:+0200
TZOFFSETTO:+0100
TZNAME:CET
END:STANDARD
END:VTIMEZONE
END:VCALENDAR