BEGIN:VCALENDAR
VERSION:2.0
PRODID:-//wp-events-plugin.com//6.6.3//EN
TZID:Europe/Berlin
X-WR-TIMEZONE:Europe/Berlin
BEGIN:VEVENT
UID:1725@mpoint.biz
DTSTART;TZID=Europe/Berlin:20260410T083000
DTEND;TZID=Europe/Berlin:20260410T091500
DTSTAMP:20260407T084313Z
URL:https://mpoint.biz/events/early-morning-talk-spezial-5/
SUMMARY:EARLY MORNING TALK - SPEZIAL
DESCRIPTION:👉  Kein Vortrag. Kein Hochglanz. Dafür echte Unternehmerges
 chichten\, konkrete Lösungswege und Tools\, die Impulse geben– weil Sel
 bständigkeit nicht einsam sein muss!
ATTACH;FMTTYPE=image/jpeg:https://mpoint.biz/wp-content/uploads/2026/03/Ko
 pie-von-EMT-1.0.png
CATEGORIES:M-POINT
END:VEVENT
BEGIN:VTIMEZONE
TZID:Europe/Berlin
X-LIC-LOCATION:Europe/Berlin
BEGIN:DAYLIGHT
DTSTART:20260329T030000
TZOFFSETFROM:+0100
TZOFFSETTO:+0200
TZNAME:CEST
END:DAYLIGHT
END:VTIMEZONE
END:VCALENDAR