BEGIN:VCALENDAR
VERSION:2.0
PRODID:-//wp-events-plugin.com//6.6.3//EN
TZID:Europe/Berlin
X-WR-TIMEZONE:Europe/Berlin
BEGIN:VEVENT
UID:1610@mpoint.biz
DTSTART;TZID=Europe/Berlin:20250410T110000
DTEND;TZID=Europe/Berlin:20250410T123000
DTSTAMP:20250421T193652Z
URL:https://mpoint.biz/events/e-commerce-umsatzsteuer-bleib-auf-der-sicher
 en-seite/
SUMMARY:E-Commerce & Umsatzsteuer: Bleib auf der sicheren Seite!
DESCRIPTION:Du verkaufst über Amazon\, Etsy oder eBay? Du verdienst mit Co
 ntent auf YouTube\, Instagram oder Only-Fans? Dann weißt Du: Die Welt des
  E-Commerce boomt – aber auch die Vorschriften ändern sich ständig. Um
 satzsteuer\, Plattformhaftung\, neue Meldepflichten – wer hier nicht up 
 to date ist\, riskiert unerwartete Nachzahlungen oder sogar Bußgelder.\n\
 nWie genau sind Deine Verkäufe oder digitalen Inhalte umsatzsteuerlich zu
  behandeln? Was bedeutet die EU-Initiative „VAT in the Digital Age“ (V
 iDA) für Dich? Und welche neuen Pflichten bringt das Plattformen-Steuertr
 ansparenzgesetz (DAC7) mit sich?\n\nBei diesem Webinar unseres Kooperation
 spartner\, die Handelskammer Hamburg\, am 10. April 2025 bekommst Du einen
  kompakten Überblick über die wichtigsten umsatzsteuerlichen Regelungen 
 für Plattformbetreiber und Händler. Ein Experte zeigt Dir anhand von Pra
 xisbeispielen\, worauf Du achten musst und wie Du teure Fehler vermeidest.
 \n\n🔹 Wann? 10.04.2025\, 11:00 – 12:30 Uhr\n💻 Wo? Online (Webinar)
 \n\nEine Anmeldung direkt beim Anbieter ist erforderlich!\n\nBleib steuerl
 ich auf der sicheren Seite – melde Dich jetzt HIER an!
ATTACH;FMTTYPE=image/jpeg:https://mpoint.biz/wp-content/uploads/2024/12/M_
 POINT_Kooperation-Ausschnitt-auf-600-px_1000-×-800-px_-1-3.webp
CATEGORIES:Kooperationspartner
END:VEVENT
BEGIN:VTIMEZONE
TZID:Europe/Berlin
X-LIC-LOCATION:Europe/Berlin
BEGIN:DAYLIGHT
DTSTART:20250330T030000
TZOFFSETFROM:+0100
TZOFFSETTO:+0200
TZNAME:CEST
END:DAYLIGHT
END:VTIMEZONE
END:VCALENDAR