BEGIN:VCALENDAR
VERSION:2.0
PRODID:-//wp-events-plugin.com//6.6.3//EN
TZID:Europe/Berlin
X-WR-TIMEZONE:Europe/Berlin
BEGIN:VEVENT
UID:1393@mpoint.biz
DTSTART;TZID=Europe/Berlin:20231114T160000
DTEND;TZID=Europe/Berlin:20231114T170000
DTSTAMP:20250108T152445Z
URL:https://mpoint.biz/events/digitale-tools-seo-verstehen-keywords-rocken
 -2/
SUMMARY:Digitale Tools: Eroberung neuer Zielgruppen mit Social Media!
DESCRIPTION:\n\n\nEntdecke bei dem Teil 5 der Onlineseminars der Handelskam
 mer Hamburg  das Potenzial von Social Media.\n\nSocial Media sind die per
 fekten Kanäle\, um neue Leute anzusprechen und gleichzeitig Deine bestehe
 nden Kunden zu halten.\n\nDoch weißt Du\, welche Plattform am besten zu D
 einem Business passt und wie Du Social Media effektiv nutzen kannst?\n\nBe
 i uns bekommst Du Ideen und wertvolle Tipps\, um Deinen Businessauftritt z
 u verbessern.\n\nFacebook\, Instagram und andere soziale Netzwerke gehöre
 n mittlerweile zum Alltag.\n\nDie Grenzen zwischen Stöbern\, Informieren 
 und Kaufen verschwimmen im Online-Umfeld\, und das eröffnet Unternehmen n
 eue Möglichkeiten\, um mit ihrer Zielgruppe in Kontakt zu treten.\n\nIn u
 nserem Vortrag erfährst Du\, welche sozialen Medien es gibt\, für wen si
 e geeignet sind und wie Du sie effektiv nutzen kannst.\n\n\n\n\n\nTreffe d
 ie Expert:innen aus dem Netzwerk des Mittelstand-Digital Zentrums Hamburg 
 und erfahre von ihnen viele weitere spannende Aspekte rund um das Thema On
 line Marketing. Jeden Dienstag vom 10. Oktober bis 28. November um 16 Uhr.
  Die Teilnahme ist selbstverständlich kostenlos.\n\nDiese Veranstaltungsr
 eihe wird in Kooperation mit Expert:innen aus den Mittelstand-Digital Zent
 ren angeboten.\n\nBitte melde Dich für alle Termine separat an.\n\n\n\n\n
 Diese informative sowie innovative Veranstaltung ist kostenfrei.\n\nDer Ti
 tel der Veranstaltung lautet: “ Neue Zielgruppen erreichen mit Social Me
 dia”.\n\n\nFür die Teilnahme an diesem Event ist eine Anmeldung auf dem
  M-POINT Unternehmerportal NICHT ausreichend.\n\nVielmehr ist es unbedingt
  erforderlich\, die Anmeldung beim Veranstalter direkt vorzunehmen.\n\nDen
  Anmeldeprozess findest Du hier!\n\n&nbsp\;\n\nweitere Termine und Themen 
 der Reihe:\n\n 	21. November 16-18 Uhr mit Deborah Baum (Mittelstand-Digit
 al Zentrum Saarbrücken)\nDie Zukunft des Marketings: Wie KI die Branche v
 erändert\n 	28. November 16-17 Uhr mit Michael Rätze (Mittelstand-Digita
 l Zentrum Chemnitz)\nRechtliche Anforderungen an Internetauftritte und Soc
 ial Media\n
ATTACH;FMTTYPE=image/jpeg:https://mpoint.biz/wp-content/uploads/2024/07/KO
 OP-HKHH-Event-Reihe-2.webp
CATEGORIES:Mitglied
END:VEVENT
BEGIN:VTIMEZONE
TZID:Europe/Berlin
X-LIC-LOCATION:Europe/Berlin
BEGIN:STANDARD
DTSTART:20231029T020000
TZOFFSETFROM:+0200
TZOFFSETTO:+0100
TZNAME:CET
END:STANDARD
END:VTIMEZONE
END:VCALENDAR