BEGIN:VCALENDAR
VERSION:2.0
PRODID:-//wp-events-plugin.com//6.6.3//EN
TZID:Europe/Berlin
X-WR-TIMEZONE:Europe/Berlin
BEGIN:VEVENT
UID:1392@mpoint.biz
DTSTART;TZID=Europe/Berlin:20231107T160000
DTEND;TZID=Europe/Berlin:20231107T170000
DTSTAMP:20250108T152445Z
URL:https://mpoint.biz/events/digitale-tools-mehr-als-effizienz-2/
SUMMARY:Digitale Tools: SEO verstehen & Keywords rocken!
DESCRIPTION:\n\n\nEntdecke bei dem Teil 4 der Onlineseminars der Handelskam
 mer Hamburg  das Potenzial der Suchmaschinenoptimiung.\n\nIn der heutigen
  digitalen Welt ist es entscheidend\, online sichtbar zu sein. Aber wie sc
 hafft man das?\n\nBei diesem Event erhältst Du praxisnahe Einblicke und b
 ewährte Strategien\, um Dein Business erfolgreich im digitalen Raum zu po
 sitionieren.\n\nDir wird gezeigt\, wie gezielte SEO-Maßnahmen Deine Sicht
 barkeit steigert\, qualifizierten Traffic auf Deine Website lenkt und Dein
 e Umsätze steigern können.\n\nVon der richtigen Keyword-Auswahl bis zur 
 Optimierung Deiner Webseite für bessere Suchmaschinenrankings - erfährst
  Du\, wie Du die Macht der Suchmaschinen für Dein Business nutzen kannst.
 \n\nWas erwartet Dich?\n\n 	Grundlagen der Suchmaschinenoptimierung (SEO) 
 verstehen\n 	Praktische Tipps zur Auswahl und Verwendung relevanter Keywor
 ds\n 	Optimierung Ihrer Webseite für bessere Sichtbarkeit in Suchergebnis
 sen\n 	Erfolgsstrategien zur Steigerung Ihrer Online-Präsenz und Konversi
 onen\n 	Praxisbeispiele: Erfolgsgeschichten von KMUs\, die SEO erfolgreich
  einsetzen\n 	Tools\, die Ihnen bei der Umsetzung einer gezielten SEO-Stra
 tegie helfen\n\nMache Deinen digitalen Auftritt zu einem Erfolg!\n\n\nSei 
 dabei und lerne\, wie Du Dein Business online strahlen bringst.\n\n\n\n\n\
 n\n\n\nTreffe die Expert:innen aus dem Netzwerk des Mittelstand-Digital Ze
 ntrums Hamburg und erfahre von ihnen viele weitere spannende Aspekte rund 
 um das Thema Online Marketing. Jeden Dienstag vom 10. Oktober bis 28. Nove
 mber um 16 Uhr. Die Teilnahme ist selbstverständlich kostenlos.\n\nDiese 
 Veranstaltungsreihe wird in Kooperation mit Expert:innen aus den Mittelsta
 nd-Digital Zentren angeboten.\n\nBitte melde Dich für alle Termine separa
 t an.\n\n\n\n\nDiese informative sowie innovative Veranstaltung ist kosten
 frei.\n\nDer Titel der Veranstaltung lautet: “ Suchmaschinenoptimierung:
  Sichtbarer werden im Web”.\n\n\nFür die Teilnahme an diesem Event ist 
 eine Anmeldung auf dem M-POINT Unternehmerportal NICHT ausreichend.\n\nVie
 lmehr ist es unbedingt erforderlich\, die Anmeldung beim Veranstalter dire
 kt vorzunehmen.\n\nDen Anmeldeprozess findest Du hier!\n\n&nbsp\;\n\nweite
 re Termine und Themen der Reihe:\n\n 	14. November 16-17 Uhr mit Anne Lies
 enfeld (Mittelstand-Digital Zentrum Handel)\nNeue Zielgruppen erreichen mi
 t Social Media\n 	21. November 16-18 Uhr mit Deborah Baum (Mittelstand-Dig
 ital Zentrum Saarbrücken)\nDie Zukunft des Marketings: Wie KI die Branche
  verändert\n 	28. November 16-17 Uhr mit Michael Rätze (Mittelstand-Digi
 tal Zentrum Chemnitz)\nRechtliche Anforderungen an Internetauftritte und S
 ocial Media\n
ATTACH;FMTTYPE=image/jpeg:https://mpoint.biz/wp-content/uploads/2024/07/KO
 OP-HKHH-Event-Reihe-2.webp
CATEGORIES:Mitglied
END:VEVENT
BEGIN:VTIMEZONE
TZID:Europe/Berlin
X-LIC-LOCATION:Europe/Berlin
BEGIN:STANDARD
DTSTART:20231029T020000
TZOFFSETFROM:+0200
TZOFFSETTO:+0100
TZNAME:CET
END:STANDARD
END:VTIMEZONE
END:VCALENDAR