BEGIN:VCALENDAR
VERSION:2.0
PRODID:-//wp-events-plugin.com//6.6.3//EN
TZID:Europe/Berlin
X-WR-TIMEZONE:Europe/Berlin
BEGIN:VEVENT
UID:1395@mpoint.biz
DTSTART;TZID=Europe/Berlin:20231128T160000
DTEND;TZID=Europe/Berlin:20231128T170000
DTSTAMP:20250108T152445Z
URL:https://mpoint.biz/events/digitale-tools-ki-revolutioniert-marketing-2
 /
SUMMARY:Digitale Tools: Datenschutz & Impressum meistern!
DESCRIPTION:\n\n\nEntdecke bei dem letzten Teil der Onlineseminars der Hand
 elskammer Hamburg  Tipps &amp\; Tricks zu Datenschutz und Impressum.\n\n\
 n\n\nWeißt Du\, ob Dein Online-Auftritt rechtlich korrekt gestaltet ist?\
 n\nUm Abmahnungen oder schlimmere Konsequenzen zu vermeiden\, wird Dir gez
 eigt\, welche rechtlichen Aspekte Du beachten solltest.\n\nVom Datenschutz
  bis zur Gestaltung Deines Impressums erhählst Du hier Tipps und Antworte
 n.\n\nDie Digitalisierung eröffnet Unternehmen viele neue Möglichkeiten\
 , sich potenziellen Kunden zu präsentieren und ihre Produkte oder Dienstl
 eistungen zu bewerben. Dabei müssen jedoch nach wie vor die Regeln des We
 ttbewerbsrechts\, des Urheberrechts und des Datenschutzes beachtet werden.
  Zudem gibt es neue Herausforderungen\, wie das "one-link-only-Problem" in
  den Profilbeschreibungen vieler Social-Media-Plattformen.\n\nDiese und vi
 ele andere Punkte für einen erfolgreichen digitalen Auftritt erfährst Du
  bei diesem Vortrag.\n\n\n\n\n\n\n\n\nTreffe die Expert:innen aus dem Netz
 werk des Mittelstand-Digital Zentrums Hamburg und erfahre von ihnen viele 
 weitere spannende Aspekte rund um das Thema Online Marketing. Jeden Dienst
 ag vom 10. Oktober bis 28. November um 16 Uhr.\n\nDie Teilnahme ist kosten
 los.\n\nDiese Veranstaltungsreihe wird in Kooperation mit Expert:innen aus
  den Mittelstand-Digital Zentren angeboten.\n\n\n\n\nDiese informative sow
 ie innovative Veranstaltung ist kostenfrei.\n\nDer Titel der Veranstaltung
  lautet: “Rechtliche Anforderungen an Internetauftritte und Social Media
 ”.\n\n\nFür die Teilnahme an diesem Event ist eine Anmeldung auf dem M-
 POINT Unternehmerportal NICHT ausreichend.\n\nVielmehr ist es unbedingt er
 forderlich\, die Anmeldung beim Veranstalter direkt vorzunehmen.\n\nDen An
 meldeprozess findest Du hier!
ATTACH;FMTTYPE=image/jpeg:https://mpoint.biz/wp-content/uploads/2024/07/KO
 OP-HKHH-Event-Reihe-2.webp
CATEGORIES:Kooperationspartner
END:VEVENT
BEGIN:VTIMEZONE
TZID:Europe/Berlin
X-LIC-LOCATION:Europe/Berlin
BEGIN:STANDARD
DTSTART:20231029T020000
TZOFFSETFROM:+0200
TZOFFSETTO:+0100
TZNAME:CET
END:STANDARD
END:VTIMEZONE
END:VCALENDAR