BEGIN:VCALENDAR
VERSION:2.0
PRODID:-//wp-events-plugin.com//6.6.3//EN
TZID:Europe/Berlin
X-WR-TIMEZONE:Europe/Berlin
BEGIN:VEVENT
UID:1359@mpoint.biz
DTSTART;TZID=Europe/Berlin:20231017T160000
DTEND;TZID=Europe/Berlin:20231017T180000
DTSTAMP:20250108T152438Z
URL:https://mpoint.biz/events/digital-mastery-kundenbindung-in-der-custome
 r-journey-2/
SUMMARY:Digital Mastery: Kundenbindung in der Customer Journey
DESCRIPTION:\n\n\n\n"Online Marketing Revolution: Kundenkommunikation entla
 ng der Customer Journey"\n\nVerpasse nicht die Chance\, mithilfe dieses to
 llen Onlineseminars der Handelskammer Hamburg\, Deine Online-Marketingstra
 tegie zu revolutionieren! Hast Du Dich jemals gefragt\, wie Du das Kaufver
 halten Deiner Kund:innen verstehen und erfolgreich ansprechen kannst? Unse
 r exklusives Webinar liefert Dir die Antworten und zeigt Dir\, wie Du eine
  maßgeschneiderte Online-Marketingstrategie für Dein Unternehmen entwick
 eln kannst.\n\nWas erwartet Dich?\n\nDie Digitalisierung hat das Kaufverha
 lten der Verbraucher revolutioniert. Erfahren Sie\, wie der einfache Zugan
 g zu Informationen durch internetbasierte Medien die Recherchegewohnheiten
  Ihrer potenziellen Kund:innen verändert und wie Sie online sichtbar werd
 en können.\n\nIn diesem Webinar wirst Du für die Potenziale der Online-K
 ommunikation sensibilisiert und erarbeitest gemeinsam  individuelle Strat
 egien. Du erhältst praktische Einblicke und Impulse zur Entwicklung von B
 uyer Personas sowie zur Identifizierung relevanter Kontaktpunkte entlang d
 er Customer Journey. Das Ziel ist es\, dass Du ein umfassendes Bild von de
 n Erwartungen und Bedürfnissen Deiner Zielgruppe entwickelst\, um diese i
 n Deine maßgeschneiderte Online-Kommunikationsstrategie einzubeziehen.\n\
 nTermine und Themen:\n\n 	24. Oktober\, 16-17 Uhr - Usability and beyond -
  Für positives Erleben im Web gestalten mit Anika Piccolo (Mittelstand-Di
 gital Zentrum Fokus Mensch)\n 	7. November\, 16-17 Uhr - Suchmaschinenopti
 mierung: Sichtbarer werden im Web mit Berenice Ehrenberg (Mittelstand-Digi
 tal Zentrum Hamburg)\n 	14. November\, 16-17 Uhr - Neue Zielgruppen erreic
 hen mit Social Media mit Anne Liesenfeld (Mittelstand-Digital Zentrum Hand
 el)\n 	21. November\, 16-18 Uhr - Die Zukunft des Marketings: Wie KI die B
 ranche verändert mit Deborah Baum (Mittelstand-Digital Zentrum Saarbrück
 en)\n 	28. November\, 16-17 Uhr - Thema wird noch bekannt gegeben mit Mich
 ael Rätze (Mittelstand-Digital Zentrum Chemnitz)\n\nTreffe die Expert:inn
 en aus dem Netzwerk des Mittelstand-Digital Zentrums Hamburg und erfahre v
 on ihnen viele weitere spannende Aspekte rund um das Thema Online Marketin
 g. Jeden Dienstag vom 10. Oktober bis 28. November um 16 Uhr. Die Teilnahm
 e ist selbstverständlich kostenlos.\n\nDiese Veranstaltungsreihe wird in 
 Kooperation mit Expert:innen aus den Mittelstand-Digital Zentren angeboten
 .\n\nBitte melde Dich für alle interessanten Termine separat an.\n\n\n\n\
 nDiese informative sowie innovative Veranstaltung ist kostenfrei.\n\nDer T
 itel der Veranstaltung lautet: “Online Marketing – Kundenkommunikation
  entlang der Customer Journey”.\n\n\nFür die Teilnahme an diesem Event 
 ist eine Anmeldung auf dem M-POINT Unternehmerportal NICHT ausreichend.\n\
 nVielmehr ist es unbedingt erforderlich\, die Anmeldung beim Veranstalter 
 direkt vorzunehmen.\n\nDen Anmeldeprozess findest Du hier!
ATTACH;FMTTYPE=image/jpeg:https://mpoint.biz/wp-content/uploads/2024/07/KO
 OP-HKHH-Event-Reihe.webp
CATEGORIES:Mitglied
END:VEVENT
BEGIN:VTIMEZONE
TZID:Europe/Berlin
X-LIC-LOCATION:Europe/Berlin
BEGIN:DAYLIGHT
DTSTART:20230326T030000
TZOFFSETFROM:+0100
TZOFFSETTO:+0200
TZNAME:CEST
END:DAYLIGHT
END:VTIMEZONE
END:VCALENDAR