BEGIN:VCALENDAR
VERSION:2.0
PRODID:-//wp-events-plugin.com//6.6.3//EN
TZID:Europe/Berlin
X-WR-TIMEZONE:Europe/Berlin
BEGIN:VEVENT
UID:1498@mpoint.biz
DTSTART;TZID=Europe/Berlin:20240703T180000
DTEND;TZID=Europe/Berlin:20240703T193000
DTSTAMP:20250108T152505Z
URL:https://mpoint.biz/events/die-schuldenbremse-auslaufmodell-oder-zukunf
 tshoffnung-2/
SUMMARY:Die Schuldenbremse – Auslaufmodell oder Zukunftshoffnung?
DESCRIPTION:Die Friedrich-Naumann-Stiftung\, unser Kooperationspartner\, l
 ädt uns zu folgender Podiumsdiskussion ein.\n\nJahrelang galt die Staatsv
 erschuldung als bedrohlich\, doch niedrige Zinsen machten günstige Kredit
 e attraktiv. Der russische Angriffskrieg gegen die Ukraine führte zu enor
 men kreditfinanzierten Ausgaben\, die die Inflationsfolgen abmilderten. Mi
 t steigenden Zinsen wird die Staatsverschuldung nun teurer. Ist es Zeit\, 
 die Wirtschaft weiter mit Krediten zu stützen\, oder ist Haushaltsdiszipl
 in angesagt? Hat die Schuldenbremse noch Sinn oder behindert sie den Umbau
  zu einer klimaneutralen und wettbewerbsfähigen Wirtschaft?\n\nDiskussion
 steilnehmer:\n\n 	Prof. Dr. Friedrich Heinemann: Leiter des Forschungsbere
 ichs „Unternehmensbesteuerung und Öffentliche Finanzwirtschaft“ am ZE
 W\n 	Prof. Dr. Henning Vöpel: Vorstand des Centrums für Europäische Pol
 itik\n 	Dr. Jörn Quitzau: Chefökonom der Bergos Bank\n\nModeration: Jana
  Werner\n\nProgramm:\n\n 	18:00 Uhr: Begrüßung durch Bettina Jantzen\, P
 rogrammreferentin der Friedrich-Naumann-Stiftung\n 	18:10 Uhr: Podiumsdisk
 ussion\n 	19:10 Uhr: Fragen aus dem Publikum\n 	19:30 Uhr: Ende der Verans
 taltung\n\nFür weitere Informationen und zur Vorab-Lektüre wird folgende
  Studie empfohlen: Die Schuldenbremse – Ein Garant für nachhaltige Haus
 haltspolitik.\n\nDie Teilnahme ist kostenfrei. Für die Teilnahme ist eine
  direkte Anmeldung beim Veranstalter erforderlich.\n\nDen Anmeldeprozess s
 owie den detaillierten Programmverlauf findest Du hier!\n\nSei dabei und d
 iskutiere mit!
ATTACH;FMTTYPE=image/jpeg:https://mpoint.biz/wp-content/uploads/2024/07/Ko
 opevent-Eventarium.webp
CATEGORIES:Kooperationspartner
LOCATION:Landhaus Walter\, Otto-Wels-Straße 2\, Hamburg\, 22303\, 
GEO:53.5939937;10.015164700000014
X-APPLE-STRUCTURED-LOCATION;VALUE=URI;X-ADDRESS=Otto-Wels-Straße 2\, Hambu
 rg\, 22303\, ;X-APPLE-RADIUS=100;X-TITLE=Landhaus Walter:geo:53.5939937,10
 .015164700000014
END:VEVENT
BEGIN:VTIMEZONE
TZID:Europe/Berlin
X-LIC-LOCATION:Europe/Berlin
BEGIN:DAYLIGHT
DTSTART:20240331T030000
TZOFFSETFROM:+0100
TZOFFSETTO:+0200
TZNAME:CEST
END:DAYLIGHT
END:VTIMEZONE
END:VCALENDAR