BEGIN:VCALENDAR
VERSION:2.0
PRODID:-//wp-events-plugin.com//6.6.3//EN
TZID:Europe/Berlin
X-WR-TIMEZONE:Europe/Berlin
BEGIN:VEVENT
UID:1493@mpoint.biz
DTSTART;TZID=Europe/Berlin:20240613T140000
DTEND;TZID=Europe/Berlin:20240613T190000
DTSTAMP:20250108T152505Z
URL:https://mpoint.biz/events/die-e-rechnung-ab-2025-das-musst-du-wissen-2
 /
SUMMARY:Tag des Mittelstands 2024 - Unternehmensnachfolge aktiv gestalten
DESCRIPTION:Der Tag des Mittelstands am 13. Juni 2024 ab 14:00 Uhr wird von
  unserem Kooperationspartner\, der Handelskammer Hamburg\, veranstaltet. D
 ieses Event ist eine ideale Gelegenheit\, sich in der Hamburger Wirtschaft
  zu vernetzen!\n\nKleine und mittlere Unternehmen sind der Garant für ein
 e vielfältige Wirtschaftsstruktur: Sie schaffen Arbeits- und Ausbildungsp
 lätze und inspirieren die nächste Generation. Nutze die Chance\, Dein Un
 ternehmen in gute Hände abzugeben und ermögliche Nachfolgerinnen und Nac
 hfolgern einen erfolgreichen Start in die Selbständigkeit!\n\nUnternehmen
  und Nachfolgeinteressierten wird wertvolles Praxiswissen für die Unterne
 hmensnachfolge angeboten. Unternehmerische Erfahrungsberichte und Fachfore
 n beleuchten wichtige Aspekte wie die Berechnung des Unternehmenswertes\, 
 den Nachfolgeprozess und die Suche nach geeigneten Kandidaten.\n\nDie Wirt
 schaftsbehörde\, die Handwerkskammer\, der Verband Freier Berufe und die 
 Handelskammer laden die mittelständischen Unternehmen unserer Stadt herzl
 ich ein\, diese Themen zu diskutieren.\n\nProgrammhighlights:\n\n 	Erfahru
 ngsaustausch: Unternehmerinnen und Unternehmer berichten von ihren Nachfol
 geprozessen.\n 	Fachforen: Experten geben Einblicke in die Bewertung von U
 nternehmen\, rechtliche und steuerliche Rahmenbedingungen sowie die Auswah
 l geeigneter Nachfolger.\n 	Netzwerkmöglichkeiten: Knüpfe wertvolle Kont
 akte und tausche Dich mit Gleichgesinnten aus.\n\nDetaillierte Information
 en zum Programm findest Du hier.\n\nDie Teilnahme ist kostenfrei. Für die
  Teilnahme ist eine direkte Anmeldung beim Veranstalter erforderlich.\n\nD
 en Anmeldeprozess findest Du hier!\n\nSei dabei und gestalte die Zukunft D
 eines Unternehmens aktiv mit!
ATTACH;FMTTYPE=image/jpeg:https://mpoint.biz/wp-content/uploads/2024/07/M_
 POINT_Kooperation-Ausschnitt-auf-600-px_1000-×-800-px_-2-4.webp
CATEGORIES:Kooperationspartner
LOCATION:Landhaus Walter\, Otto-Wels-Straße 2\, Hamburg\, 22303\, 
GEO:53.5939937;10.015164700000014
X-APPLE-STRUCTURED-LOCATION;VALUE=URI;X-ADDRESS=Otto-Wels-Straße 2\, Hambu
 rg\, 22303\, ;X-APPLE-RADIUS=100;X-TITLE=Landhaus Walter:geo:53.5939937,10
 .015164700000014
END:VEVENT
BEGIN:VTIMEZONE
TZID:Europe/Berlin
X-LIC-LOCATION:Europe/Berlin
BEGIN:DAYLIGHT
DTSTART:20240331T030000
TZOFFSETFROM:+0100
TZOFFSETTO:+0200
TZNAME:CEST
END:DAYLIGHT
END:VTIMEZONE
END:VCALENDAR