BEGIN:VCALENDAR
VERSION:2.0
PRODID:-//wp-events-plugin.com//6.6.3//EN
TZID:Europe/Berlin
X-WR-TIMEZONE:Europe/Berlin
BEGIN:VEVENT
UID:1582@mpoint.biz
DTSTART;TZID=Europe/Berlin:20250412T190000
DTEND;TZID=Europe/Berlin:20250413T220000
DTSTAMP:20250421T185739Z
URL:https://mpoint.biz/events/der-27-blaue-ball-eine-wunderbare-tradition-
 mit-herz/
SUMMARY:Der 27. Blaue Ball -  eine wunderbare Tradition mit Herz!
DESCRIPTION:Längst ist der Blaue Ball zu einer Hamburger Institution gewor
 den.\nDenn als Benefizball schafft er es auf ganz besondere Weise\, Lebens
 freude und Lebenshilfe miteinander zu verbinden.\nAuch 2025 tanzen\, feier
 n und genießen wir hier wieder für den guten Zweck: Die Unterstützung d
 er Kinderkrebsstation des Universitätsklinikum Hamburg-Eppendorf.\n\nFeie
 rt gemeinsam mit uns am Samstag\, den 12. April 2025: Freu Dich neben unse
 rer legendären Spendengala auf die kreative Küche des Grand Elysée Hamb
 urg\, auf wunderbare Show Acts und ein mitreißendes Musikprogramm – und
  natürlich auf die Gewissheit\, die kleinen\, starken Patienten unterstü
 tzen zu können.\n\nDieser festliche Abend findet in dem Hotel Grand Elys
 ée Hamburg statt und bietet Dir eine exzellente Gelegenheit\, Dich mit Me
 dienvertretern\, Journalisten\, Politikern\, Prominenten und Entscheidungs
 trägern aus verschiedenen Branchen zu vernetzen.\n\nDresscode: Feierliche
  Abendgarderobe.\n\nPreis pro Karte: 210\,– € inkl. MwSt.\n\nBuchungen
  bitte HIER direkt über den Veranstalter!
ATTACH;FMTTYPE=image/jpeg:https://mpoint.biz/wp-content/uploads/2025/01/Bl
 auer-Ball.webp
CATEGORIES:Kooperationspartner
END:VEVENT
BEGIN:VTIMEZONE
TZID:Europe/Berlin
X-LIC-LOCATION:Europe/Berlin
BEGIN:DAYLIGHT
DTSTART:20250330T030000
TZOFFSETFROM:+0100
TZOFFSETTO:+0200
TZNAME:CEST
END:DAYLIGHT
END:VTIMEZONE
END:VCALENDAR