BEGIN:VCALENDAR
VERSION:2.0
PRODID:-//wp-events-plugin.com//6.6.3//EN
TZID:Europe/Berlin
X-WR-TIMEZONE:Europe/Berlin
BEGIN:VEVENT
UID:1548@mpoint.biz
DTSTART;TZID=Europe/Berlin:20241015T180000
DTEND;TZID=Europe/Berlin:20241015T184500
DTSTAMP:20250108T152516Z
URL:https://mpoint.biz/events/dein-schluessel-zu-chatgpt-gestalte-prompts-
 wie-ein-profi-8-2/
SUMMARY:Dein Schlüssel zu ChatGPT: Gestalte Prompts wie ein Profi
DESCRIPTION:Alle sprechen darüber\, wie einfach es ist\, mit ChatGPT Conte
 nt für die Social Media zu kreieren. Du wünschst dir eine klare Anleitun
 g\, um bessere Ergebnisse zu bekommen? Dann ist das Webinar “Dein Schlü
 ssel zu ChatGPT – Gestalte Prompts wie ein Profi” genau das Richtige f
 ür dich!\n\n&nbsp\;\n\n  ChatGPT ist mehr als ein Werkzeug – es ist dei
 n persönlicher Lieferdienst für kreative Ideen und starken Content. Lern
 e\, wie du in nur 45 Minuten kraftvolle Prompts erstellst\, die auf dein Z
 iel einzahlen und deine Ergebnisse verbessern.\n\n&nbsp\;\n\n  Erfahre\, w
 o die Stolpersteine lauern und erhalte konkrete Impulse. Tauche ein in die
  Welt der kreativen Möglichkeiten mit ChatGPT und entdecke\, wie es auch 
 noch Spaß machen kann!\n\n  Nutze diese Chance und melde dich jetzt für 
 0 € an!\n\n  https://andrea.weiss-web.de/prompt-design/
ATTACH;FMTTYPE=image/jpeg:https://mpoint.biz/wp-content/uploads/2024/12/Pr
 ompt-Design-Oktober-M-Point.webp
CATEGORIES:Mitglied
END:VEVENT
BEGIN:VTIMEZONE
TZID:Europe/Berlin
X-LIC-LOCATION:Europe/Berlin
BEGIN:DAYLIGHT
DTSTART:20240331T030000
TZOFFSETFROM:+0100
TZOFFSETTO:+0200
TZNAME:CEST
END:DAYLIGHT
END:VTIMEZONE
END:VCALENDAR