BEGIN:VCALENDAR
VERSION:2.0
PRODID:-//wp-events-plugin.com//6.6.3//EN
TZID:Europe/Berlin
X-WR-TIMEZONE:Europe/Berlin
BEGIN:VEVENT
UID:231@mpoint.biz
DTSTART;TZID=Europe/Berlin:20191017T190000
DTEND;TZID=Europe/Berlin:20191017T200000
DTSTAMP:20240701T124109Z
URL:https://mpoint.biz/events/das-wahrscheinlich-groesste-problem-bei-der-
 unternehmensfuehrung-2/
SUMMARY:Das wahrscheinlich größte Problem bei der Unternehmensführung
DESCRIPTION:Zerstören Sie nicht Ihr Unternehmen\, sondern erhalten Sie Ihr
  Unternehmen. Leiten Sie alle notwendigen Schritte ein für mehr Vermögen
  und Freizeit und weniger Stress...\n\nIch würde mich über Ihre Teilnahm
 e an meinem Webinar freuen. Alle Informationen zur Veranstaltung finden Si
 e hier: Bitte link anklicken\nHier noch der Gratislink für Gäste:\nhttps
 ://ou24.edudip.com/lp/340196?coupon=nachfolge24\n\nViele Grüße\nBernd Ni
 elsen\n\nder Nachfolgeaufklärer
ATTACH;FMTTYPE=image/jpeg:https://mpoint.biz/wp-content/uploads/2024/07/Im
 agebild-fuer-Gruppe-Unternehmensnachfolge-bei-m-point-1.jpg
END:VEVENT
BEGIN:VTIMEZONE
TZID:Europe/Berlin
X-LIC-LOCATION:Europe/Berlin
BEGIN:DAYLIGHT
DTSTART:20190331T030000
TZOFFSETFROM:+0100
TZOFFSETTO:+0200
TZNAME:CEST
END:DAYLIGHT
END:VTIMEZONE
END:VCALENDAR