BEGIN:VCALENDAR
VERSION:2.0
PRODID:-//wp-events-plugin.com//6.6.3//EN
TZID:Europe/Berlin
X-WR-TIMEZONE:Europe/Berlin
BEGIN:VEVENT
UID:1622@mpoint.biz
DTSTART;TZID=Europe/Berlin:20250424T183000
DTEND;TZID=Europe/Berlin:20250424T193000
DTSTAMP:20250425T081450Z
URL:https://mpoint.biz/events/das-m-point-unternehmerportal-sinnvoll-nutze
 n-dein-einstieg-ins-netzwerk-persoenlich-praxisnah-voller-moeglichkeiten/
SUMMARY:Das M-POINT Unternehmerportal sinnvoll nutzen!
DESCRIPTION:Wie großartig\, dass Du Teil unseres Unternehmernetzwerks gewo
 rden bist. Jetzt möchten wir Dich nicht nur herzlich begrüßen\, sondern
  Dir auch zeigen\, wie Du M-POINT gezielt und effektiv für Dich nutzen ka
 nnst.\n\nBei unserem Kennenlern- und Infoabend\, Dauer ca. 60 Minuten\, be
 kommst Du einen persönlichen Einblick in unser Netzwerk\, unsere Plattfor
 m – und vor allem: In Deine vielen Möglichkeiten bei M-POINT!\n\nDenn b
 ei uns geht es nicht nur ums Dabeisein – es geht ums Sichtbarwerden\, um
 s Vernetzen und darum\, Synergien zu entdecken\, die wirklich etwas für D
 ich bewegen können.\n\nWas Dich erwartet:\n\n📍 Begrüßung &amp\; Vors
 tellungsrunde\nLerne andere und auch neue Mitglieder kennen und erzähle g
 ern in ein paar Sätzen\, wer Du bist und was Dich antreibt. Ganz ungezwun
 gen und mit echtem Interesse an Deiner Geschichte.\n\n💡 Präsentation: 
 Das M-POINT Netzwerk &amp\; seine Funktionen\nWie funktioniert unser Porta
 l eigentlich? Wo wirst Du sichtbar? Wie wirst Du gefunden? Und wie findest
  Du andere? Wir nehmen Dich Schritt für Schritt mit – direkt auf unsere
 r Website.\n\n🚀 Fokus auf Dein Mitgliederprofil\nDein Profil ist mehr a
 ls nur eine digitale Visitenkarte – es ist der Schlüssel zu echter Sich
 tbarkeit und passgenauen Matches im Netzwerk.\nDenn mit unserem zukünftig
 en Mitglieder-Matching-Programm bringen wir unternehmerische Menschen zusa
 mmen\, die wirklich zusammenpassen – fachlich wie menschlich.\n\nWer bra
 ucht Deine Angebote? Wer kann Dich ergänzen? Wo können gemeinsame Projek
 te entstehen? Genau das schauen wir uns intensiv  an.\n\n☕ Raum für Au
 stausch &amp\; Fragen\nAm Ende bleibt noch genügend Zeit zum Netzwerken 
 – digital oder vor Ort\, mit einem Getränk in der Hand und offener Gesp
 rächsatmosphäre.\n\n🔹 Online via Webtalk - Zoom-Meeting beitreten: h
 ttps://us02web.zoom.us/j/83097481277?pwd=UEpQOFpuOHh4am96Y3R5MFlobkNSUT09\
 n\n– Do\, 24.04.\, 18:30 – 19:30 Uhr \n\nWeitere Termine:\n\n🔹 Onli
 ne via Webtalk\n– Do\, 08.05.\, 18:30 – 19:30 Uhr\n\n🔹 Vor Ort in d
 er M-POINT Zentrale (Grelckstraße 6\, 22529 Hamburg)\n– Di\, 06.05.\, 1
 8:30 – 19:30 Uhr\n– Di\, 13.05.\, 18:30 – 19:30 Uhr\nKaffee\, Wasser
  und knackige Snacks inklusive!\n\n🔔 Jetzt hier anmelden für – Do\, 
 24.04.\, 18:30 – 19:30 Uhr (Online)\n\nWir freuen uns riesig darauf\, Di
 ch kennenzulernen – und mit Dir gemeinsam das Beste aus Deinem M-POINT E
 rlebnis herauszuholen!\n\nDein M-POINT Team
ATTACH;FMTTYPE=image/jpeg:https://mpoint.biz/wp-content/uploads/2025/04/Sc
 reenshot-2025-04-17-124427.png
CATEGORIES:M-POINT
END:VEVENT
BEGIN:VTIMEZONE
TZID:Europe/Berlin
X-LIC-LOCATION:Europe/Berlin
BEGIN:DAYLIGHT
DTSTART:20250330T030000
TZOFFSETFROM:+0100
TZOFFSETTO:+0200
TZNAME:CEST
END:DAYLIGHT
END:VTIMEZONE
END:VCALENDAR