BEGIN:VCALENDAR
VERSION:2.0
PRODID:-//wp-events-plugin.com//6.6.3//EN
TZID:Europe/Berlin
X-WR-TIMEZONE:Europe/Berlin
BEGIN:VEVENT
UID:1524@mpoint.biz
DTSTART;TZID=Europe/Berlin:20240906T130000
DTEND;TZID=Europe/Berlin:20240906T160000
DTSTAMP:20250108T152511Z
URL:https://mpoint.biz/events/chat-bot-entwicklung-leichtgemacht-diy-open-
 source/
SUMMARY:Chat Bot-Entwicklung leichtgemacht – DIY & Open Source
DESCRIPTION:Erlebe ein exklusives Networking-Event unseres Kooperationspart
 ners\, der Hamburger Handelskammer.\n\nMöchtest Du lernen\, wie Du ohne P
 rogrammierkenntnisse leistungsstarke Chatbots erstellen kannst?\n\nReferen
 ten der Handelskammer Hamburg zeigen Dir in diesem praxisorientierten Work
 shop\, wie einfach es ist\, eigene Chatbots zu entwickeln.\n\nDu erhältst
  wertvolle Einblicke in die Funktionsweise von Chatbots\, lernst\, wie Du 
 diese mit Deinen eigenen Daten füttern und nutzt Open-Source-Software\, u
 m sowohl einfache als auch komplexere Chatbots zu erstellen.\n\nProgramm:\
 n\n 	Einführung in die Funktionsweise von Chatbots: Überblick über den 
 Aufbau und die Funktionsweise von Chatbots\, inklusive Grundlagen großer 
 Sprachmodelle.\n 	Chatbots mit eigenen Daten – RAG (Retrieval-Augmented 
 Generation): Erfahre\, wie Du eigene Daten nutzen kannst\, um die Leistung
  Deiner Chatbots zu optimieren.\n 	Typische Hürden und deren Überwindung
 : Identifiziere und meistere Herausforderungen bei der Chatbot-Entwicklung
 .\n 	DIY Chatbot mit Open Source – Praxisbeispiele: Entwickel einfache u
 nd fortgeschrittene Chatbots mit kostenfreier Open-Source-Software.\n\nWas
  Sie erwartet:\n\n 	Praxisnahe Übungen und Live-Demos\, die Du direkt anw
 enden kannst.\n 	Schritt-für-Schritt-Anleitungen\, speziell für Teilnehm
 er ohne Programmierkenntnisse.\n 	Austausch mit anderen Teilnehmern und Ex
 perten.\n\nVoraussetzungen:\n\n 	Keine Programmiererfahrung erforderlich.\
 n 	Laptop mit Windows 10/11.\n 	Neugierde und Motivation\, Automatisierung
  zu lernen.\n\nMelde Dich jetzt kostenlos an und starte Deine Reise in die
  Welt der Chatbot-Entwicklung!\n\nFür die Teilnahme ist eine direkte Anme
 ldung beim Veranstalter erforderlich.\n\nDen Anmeldeprozess sowie den deta
 illierten Programmverlauf findest Du hier!
ATTACH;FMTTYPE=image/jpeg:https://mpoint.biz/wp-content/uploads/2024/12/KO
 OP-2.webp
CATEGORIES:Kooperationspartner
LOCATION:Hamburger Volksbank\, Hammerbrookstraße 63 - 65\, Hamburg\, 20097
 \, 
GEO:53.547718;10.02344560000006
X-APPLE-STRUCTURED-LOCATION;VALUE=URI;X-ADDRESS=Hammerbrookstraße 63 - 65\
 , Hamburg\, 20097\, ;X-APPLE-RADIUS=100;X-TITLE=Hamburger Volksbank:geo:53
 .547718,10.02344560000006
END:VEVENT
BEGIN:VTIMEZONE
TZID:Europe/Berlin
X-LIC-LOCATION:Europe/Berlin
BEGIN:DAYLIGHT
DTSTART:20240331T030000
TZOFFSETFROM:+0100
TZOFFSETTO:+0200
TZNAME:CEST
END:DAYLIGHT
END:VTIMEZONE
END:VCALENDAR