BEGIN:VCALENDAR
VERSION:2.0
PRODID:-//wp-events-plugin.com//6.6.3//EN
TZID:Europe/Berlin
X-WR-TIMEZONE:Europe/Berlin
BEGIN:VEVENT
UID:1329@mpoint.biz
DTSTART;TZID=Europe/Berlin:20230725T190000
DTEND;TZID=Europe/Berlin:20230725T201500
DTSTAMP:20250108T152434Z
URL:https://mpoint.biz/events/bilder-entwerfen-mit-kuenstlicher-intelligen
 z-3-2/
SUMMARY:KI - Wie wir neue Technologien gewinnbringend einsetzen!
DESCRIPTION:Der Veranstalter dieses digitalen\, interessanten &amp\; inspir
 ierenden Events ist die Friedrich-Naumann-Stiftung für die Freiheit.\n\n\
 nDie Entwicklungen rund um KI-basierte generative Tools war in den vergang
 enen neun Monaten rasant! Die Bildgeneratoren Midjourney über DALL-E sind
  inzwischen vielen Menschen ein Begriff\, die Alternative Stable Diffusion
  scheint dagegen noch etwas unbekannter - dabei ist es im Gegensatz zu ihr
 en kommerziellen Gegenstücken Open Source und kostenlos.\n\nDoch welche V
 eränderungen bringen die Generatoren mit sich\, etwa für die Werbe- und 
 Marketingwelt? Welche Gefahren bergen die Tools\, beispielsweise hinsichtl
 ich erlernten Bias\, Vorurteile\, Rassismus? Und wie gelingt es uns\, in K
 ombination mit der Nutzung von Chat GPT das Beste aus den Anwendungen hera
 uszuholen?\n\nDorothee Töreki stellt zahlreiche Beispiele zu den genannte
 n Themen vor und vermittelt eine Ahnung davon\, wie wir gewinnbringend mit
  den neuen Technologien arbeiten können und sollten.\n\nDer Titel der Ver
 anstaltung lautet: “Mindjourney und Text-To-Image AI - Explosion an Krea
 tivität oder Bilderflut des Austauschbaren“.\n\nFür die Teilnahme an d
 iesem Event ist eine Anmeldung auf dem M-POINT Unternehmerportal NICHT aus
 reichend.\n\nVielmehr ist es unbedingt erforderlich\, die Anmeldung beim V
 eranstalter direkt vorzunehmen.\n\nDen Anmeldeprozess findest Du hier!
ATTACH;FMTTYPE=image/jpeg:https://mpoint.biz/wp-content/uploads/2024/07/MI
 DKOOP-1.webp
CATEGORIES:Mitglied
END:VEVENT
BEGIN:VTIMEZONE
TZID:Europe/Berlin
X-LIC-LOCATION:Europe/Berlin
BEGIN:DAYLIGHT
DTSTART:20230326T030000
TZOFFSETFROM:+0100
TZOFFSETTO:+0200
TZNAME:CEST
END:DAYLIGHT
END:VTIMEZONE
END:VCALENDAR