BEGIN:VCALENDAR
VERSION:2.0
PRODID:-//wp-events-plugin.com//6.6.3//EN
TZID:Europe/Berlin
X-WR-TIMEZONE:Europe/Berlin
BEGIN:VEVENT
UID:1709@mpoint.biz
DTSTART;TZID=Europe/Berlin:20260423T160000
DTEND;TZID=Europe/Berlin:20260423T190000
DTSTAMP:20260417T092331Z
URL:https://mpoint.biz/events/auf-entdeckungstour-im-forschungszentrum-des
 y/
SUMMARY:Auf Entdeckungstour im Forschungszentrum DESY
DESCRIPTION:Zukunft live erleben – bei DESY\nHightech\, Teilchen\, Vision
 en: Schau hinter die Kulissen eines der spannendsten Forschungszentren der
  Welt.\n👉 Sei dabei!
ATTACH;FMTTYPE=image/jpeg:https://mpoint.biz/wp-content/uploads/2026/01/DE
 SY-2.png
CATEGORIES:M-POINT
LOCATION:DESY (Deutsches Elektronen-Synchrotron)\, Notkestraße 85\, 22607 
 Hamburg\, 22607\, Deutschland
GEO:53.576067;9.879899
X-APPLE-STRUCTURED-LOCATION;VALUE=URI;X-ADDRESS=Notkestraße 85\, 22607 Ham
 burg\, 22607\, Deutschland;X-APPLE-RADIUS=100;X-TITLE=DESY (Deutsches Elek
 tronen-Synchrotron):geo:53.576067,9.879899
END:VEVENT
BEGIN:VTIMEZONE
TZID:Europe/Berlin
X-LIC-LOCATION:Europe/Berlin
BEGIN:DAYLIGHT
DTSTART:20260329T030000
TZOFFSETFROM:+0100
TZOFFSETTO:+0200
TZNAME:CEST
END:DAYLIGHT
END:VTIMEZONE
END:VCALENDAR