BEGIN:VCALENDAR
VERSION:2.0
PRODID:-//wp-events-plugin.com//6.6.3//EN
TZID:Europe/Berlin
X-WR-TIMEZONE:Europe/Berlin
BEGIN:VEVENT
UID:1534@mpoint.biz
DTSTART;TZID=Europe/Berlin:20240904T190000
DTEND;TZID=Europe/Berlin:20240904T220000
DTSTAMP:20250108T152512Z
URL:https://mpoint.biz/events/44-nacht-der-redner-bundesweit/
SUMMARY:44. Nacht der Redner bundesweit
DESCRIPTION:Nur noch eine Woche bis zum großen Jubiläum!\n\nDie 44. Nacht
  der Redner bundesweit - da passt nur der großartigste Rahmen für unsere
  universelle Bildungsbühne:\n\nDas Planetarium Hamburg!\n\nWann?\nAm 04. 
 September bei der Nacht der Redner um 19 Uhr.\n\n"The Universe Inside - Ei
 ne Reise ins Ich" mit\n\n⭕Lutz Herkenrath\n⭕Gunnar Haberland\n⭕ Dr. 
 Akuma Saningong und\n⭕Dr. Mariana Wagner\n\nDazu unsere musikalischen Ac
 ts von\n⭕Raja und\n⭕Cherif mit seiner Handpan\n\nModeriert wird diese 
 besondere Show von\n⭕Achim Griesel\n\nEin Abend vollgepackt mit Wissen u
 nd Kreativität\, mit positiver Energie und dem Willen\, etwas zu verände
 rn! Vier Redende\, je 20 Minuten. Erstmals im Planetarium Hamburg.\n\nAls 
 Zutaten verwenden die Vortragenden ihr Expertenwissen und garnieren das Ga
 nze mit ihren mal süßen\, mal sauren Lebenserfahrungen. Jeder Sprechende
  hat ein anderes Thema\, doch eine Sache verbindet sie: Sie alle glauben\,
  je mehr wir voneinander lernen können\, desto leichter und glücklicher 
 kommen wir zusammen weiter. Angereichert mit einer musikalisch-meditativen
  Einstimmung zu Beginn und begleitet von sphärischen Klängen.\n\nKlicke 
 hier jetzt für Dein Ticket und sei dabei\, wenn wir in unbekannte Weiten 
 vordringen\, die nie ein Mensch zuvor gesehen hat:\n\nNacht der Redner: Th
 e Universe Inside – Eine Reise ins Ich (planetarium-hamburg.de)
ATTACH;FMTTYPE=image/jpeg:https://mpoint.biz/wp-content/uploads/2024/12/pl
 anet_02.webp
CATEGORIES:Mitglied
LOCATION:Wintergarten Daniela Landgraf\, Daimlerstraße 11\, Hamburg\, 2276
 3\, 
GEO:53.55709050000001;9.920857800000022
X-APPLE-STRUCTURED-LOCATION;VALUE=URI;X-ADDRESS=Daimlerstraße 11\, Hamburg
 \, 22763\, ;X-APPLE-RADIUS=100;X-TITLE=Wintergarten Daniela Landgraf:geo:5
 3.55709050000001,9.920857800000022
END:VEVENT
BEGIN:VTIMEZONE
TZID:Europe/Berlin
X-LIC-LOCATION:Europe/Berlin
BEGIN:DAYLIGHT
DTSTART:20240331T030000
TZOFFSETFROM:+0100
TZOFFSETTO:+0200
TZNAME:CEST
END:DAYLIGHT
END:VTIMEZONE
END:VCALENDAR