BEGIN:VCALENDAR
VERSION:2.0
PRODID:-//wp-events-plugin.com//6.6.3//EN
TZID:Europe/Berlin
X-WR-TIMEZONE:Europe/Berlin
BEGIN:VEVENT
UID:1555@mpoint.biz
DTSTART;TZID=Europe/Berlin:20241106T190000
DTEND;TZID=Europe/Berlin:20241106T220000
DTSTAMP:20250108T152516Z
URL:https://mpoint.biz/events/32-nacht-der-redner-live-in-hamburg/
SUMMARY:32. Nacht der Redner live in Hamburg
DESCRIPTION:Wenn wir durch positives Denken und klare Absichten Klugheit zu
 r Kunst erheben\, indem wir unser eigenes Instrument im Orchester des Lebe
 ns entdecken und dadurch in unserem Umfeld Ressourcen freisetzen\, so dass
  wir zusammen zu Lebenssieger werden\, dann ist wieder…\n\nNacht der Red
 ner live in Hamburg\n\nEin Abend\, vier Redende\, je 20 Min.\n\nEin Abend\
 , vollgepackt mit Wissen und Kreativität\, mit positiver Energie und dem 
 Willen\, etwas zu verändern! Das ist die „Nacht der Redner“ in Hambur
 g.\n\nAm 06. November 2024 in Hamburg für Euch auf der Bühne:\n⭕  Udo
  Gast: Hoffnung gegen Hass – Die Kraft des Positiven Denkens\nUdo Gast n
 immt am Beispiel der Wahlen in den USA unser menschliches Miteinander in d
 en Fokus. Anhand der Betrachtung\, welche Auswirkungen ein Wahlsieg von Ka
 mala Harris auf den Umgang mit den anderen Staaten hätte\, konzentriert s
 ich Udo jedoch vornehmlich um das aus seiner Sicht von Harris gelebte Lebe
 nsprinzip. Für ihn geht es um Hoffnung gegen Hass\, also die Kraft des Po
 sitiven Denkens\, um Intelligenz gegen Inkompetenz – Wissen ist Macht\, 
 aber Klugheit ist Kunst. Freude gegen Frustration – Lachen als Heilmitte
 l gegen den Frust. Wahrnehmen versus Werten – Die Kunst\, ohne Vorurteil
 e zu sehen. Empathie versus Egoismus – Der Weg vom 'Ich' zum 'Wir'. Lach
 en versus Labern und Zuversicht versus Zaudern.\n⭕  Michael Schulz: Emp
 owern statt auspowern – Das Leben ist nicht ´for sale´!\nMit über 25 
 Jahren Leadership-Erfahrung im Direktvertrieb hat sich Michael Schulz als 
 Experte für „Erfolgreiches Emotionales Verkaufen“ in Deutschland etab
 liert. Er ist in einem Segment tätig\, in dem er mit sehr viel Lebenserfa
 hrung und Weisheiten\, aber auch mit viel Leid\, Schmerz und Bedauern konf
 rontiert wird. Daher weiß er bestens\, welche Bedeutung Empowerment von M
 itarbeitern\, Motivation und Werte im Vertrieb und in der Führung von Men
 schen haben\, so dass das eine Leben\, das wir haben\, nicht “for sale
 ” ist.\n\nAnhand von Kundengesprächen und seiner jahrelangen Beobachtun
 gen als Führungskraft zeigt euch Michael auf unterhaltsame und humorvolle
  Weise\, welche Ressourcen Vertriebler\, Führungskräfte\, aber auch Mens
 chen im Privatleben hier noch freisetzen können\, um eine optimale berufl
 iche und private Balance zu finden.\n⭕  Jessica Stautz und Sven Sprich:
  Emotionales Gepäck - Pack’s aus\, bevor es Dich packt!\nPackt mit uns 
 aus! Mit Tiefgang und feinem Humor nehmen wir Euch auf eine Reise mit in d
 ie verborgenen Gefühle\, die wir alle in uns tragen. Lasst Euch berühren
  und inspirieren!\n⭕  Silke Stamme: Läuft doch alles super. wo ist das
  Problem? - Frauen zwischen Führung und Vorurteil\nIn Deutschland ist Fü
 hrung nach wie vor weit überwiegend in männlicher Hand. Gleich und gleic
 h gesellt sich\, zumindest hierzulande\, nach wie vor gern. Das ist mensch
 lich. Aber bringt uns das weiter?\nIn einem Orchester\, in dem alle Flöte
 n spielen\, fehlen diverse Klänge und Perspektiven. Vielfalt bringt Vorte
 ile. Das gilt für Orchester ebenso wie für Führungsteams.\nWas unbewuss
 te Denkmuster mit uns machen - was aber auch gleichzeitig möglich ist\, w
 enn wir bewusst Dinge anders tun und denken\, darum geht es in diesem Vort
 rag.\nEs liegt an uns Veränderung zu bewirken. Die klarste Absicht gewinn
 t.\n\nSichere Dir jetzt Dein Ticket mit M-Point-Mitgliederrabatt unter\n\n
 www.eventbrite.de/e/1007632374557/?discount=M-Point\n\nIch freue mich auf 
 Euch!
ATTACH;FMTTYPE=image/jpeg:https://mpoint.biz/wp-content/uploads/2024/12/17
 29688411331.webp
CATEGORIES:Mitglied
LOCATION:pirAMide Informatik GmbH\, Grelckstraße 36\, Hamburg\, 22529\, 
GEO:53.6019809;9.953671499999928
X-APPLE-STRUCTURED-LOCATION;VALUE=URI;X-ADDRESS=Grelckstraße 36\, Hamburg\
 , 22529\, ;X-APPLE-RADIUS=100;X-TITLE=pirAMide Informatik GmbH:geo:53.6019
 809,9.953671499999928
END:VEVENT
BEGIN:VTIMEZONE
TZID:Europe/Berlin
X-LIC-LOCATION:Europe/Berlin
BEGIN:STANDARD
DTSTART:20241027T020000
TZOFFSETFROM:+0200
TZOFFSETTO:+0100
TZNAME:CET
END:STANDARD
END:VTIMEZONE
END:VCALENDAR