BEGIN:VCALENDAR
VERSION:2.0
PRODID:-//wp-events-plugin.com//6.6.3//EN
TZID:Europe/Berlin
X-WR-TIMEZONE:Europe/Berlin
BEGIN:VEVENT
UID:887@mpoint.biz
DTSTART;TZID=Europe/Berlin:20241025T160000
DTEND;TZID=Europe/Berlin:20241031T143000
DTSTAMP:20240701T124916Z
URL:https://mpoint.biz/events/1-woche-basenfasten-und-kochen-auf-dem-bauer
 nhof-vom-25-bis-31-oktober-2024/
SUMMARY:1 Woche Basenfasten und Kochen auf dem Bauernhof vom 25. bis 31. Ok
 tober 2024
DESCRIPTION:\n\nZur Ruhe kommen\, entschlacken und erholen\n\n\n\n\n\nSehns
 t du dich danach\, endlich wieder voller Energie aufzustehen?\n\nAm Abend 
 nicht vor dem Fernseher sofort einzuschlafen?\n\nWürdest du auch gerne ei
 n paar Kilos loswerden\, dich aber nicht dabei quälen?\n\nMöchtest du di
 r selbst einfach mal etwas Gutes tun?\n\nWillst du gesünder leben und dei
 ne Wechseljahres-Beschwerden lindern?\n\nWünschst du dir eine positivere 
 Ausstrahlung und mehr Selbstbewusstsein?\n\nDann ist das 6-Tage Basenfaste
 n Retreat im luxuriösen Waldhotel Kreuztanne genau das Richtige für dich
 .\nWas bekommst du in dieser Woche?\n6 Übernachtungen (Freitag bis Donner
 stag) im Einzelzimmer einer Ferienwohnung (Preis für DZ minimiert sich 
 um 23\,00 €)\n\n 	Frische basische Fastenverpflegung 3 x täglich – vo
 n uns gemeinsam zubereitet\n 	Basische Teeauswahl &amp\; Mineralwasser üb
 er den gesamten Zeitraum\n 	Broschüre „Anleitung Basenfasten“\n 	Basi
 sches Elektrolyse-Fußbad\n 	ein Einzeltermin ca. 30 Minuten\n 	Anleitung 
 für den Leberwickel\n 	Bittersalz &amp\; ätherische Öle therapeutischer
  Qualität\n 	Täglich geführte Wanderungen oder Spaziergänge\n 	Abendpr
 ogramm mit Entspannungsangeboten\n 	Themenvorträge zur Ernährung\n 	Frü
 hgymnastik\n 	Liebevolle Betreuung während der Woche\n 	Bambus Fuß Pflas
 ter für 5 Tage\n\n\n
ATTACH;FMTTYPE=image/jpeg:https://mpoint.biz/wp-content/uploads/2024/07/DS
 C_0121-1-scaled-1.webp
LOCATION:Fabrik\, Barnerstraße 36\, Hamburg\, 22765\, 
GEO:53.5567158;9.92916839999998
X-APPLE-STRUCTURED-LOCATION;VALUE=URI;X-ADDRESS=Barnerstraße 36\, Hamburg\
 , 22765\, ;X-APPLE-RADIUS=100;X-TITLE=Fabrik:geo:53.5567158,9.929168399999
 98
END:VEVENT
BEGIN:VTIMEZONE
TZID:Europe/Berlin
X-LIC-LOCATION:Europe/Berlin
BEGIN:DAYLIGHT
DTSTART:20240331T030000
TZOFFSETFROM:+0100
TZOFFSETTO:+0200
TZNAME:CEST
END:DAYLIGHT
BEGIN:STANDARD
DTSTART:20241027T020000
TZOFFSETFROM:+0200
TZOFFSETTO:+0100
TZNAME:CET
END:STANDARD
END:VTIMEZONE
END:VCALENDAR